BEGIN:VCALENDAR
VERSION:2.0
PRODID:-//www.arcnj.org//NONSGML kigkonsult.se iCalcreator 2.30.10//
CALSCALE:GREGORIAN
METHOD:PUBLISH
UID:a1187e31-f3ee-4672-b580-7e4aeeb54195
X-WR-CALDESC:
X-WR-RELCALID:656b2672cb882b888bdc462b07f2a76a
X-WR-TIMEZONE:America/New_York
BEGIN:VTIMEZONE
TZID:America/New_York
BEGIN:STANDARD
TZNAME:EST
DTSTART:20251102T020000
TZOFFSETFROM:-0400
TZOFFSETTO:-0500
RDATE:20261101T020000
RDATE:20271107T020000
END:STANDARD
BEGIN:DAYLIGHT
TZNAME:EDT
DTSTART:20260308T020000
TZOFFSETFROM:-0500
TZOFFSETTO:-0400
RDATE:20270314T020000
RDATE:20280312T020000
END:DAYLIGHT
END:VTIMEZONE
BEGIN:VEVENT
UID:4ed2bc88-d41c-47ca-b8ed-962c4927dc4b
DTSTAMP:20260420T131042Z
DESCRIPTION:
DTSTART;TZID=America/New_York:20260923T120000
DTEND;TZID=America/New_York:20260923T133000
LOCATION:https://attendee.gotowebinar.com/register/1941544474536067421
SUMMARY:Fix Your Face
END:VEVENT
END:VCALENDAR
