BEGIN:VCALENDAR
VERSION:2.0
PRODID:-//www.arcnj.org//NONSGML kigkonsult.se iCalcreator 2.30.10//
CALSCALE:GREGORIAN
METHOD:PUBLISH
UID:6536b644-8335-4a4c-b635-75e7a8ffa854
X-WR-CALDESC:
X-WR-RELCALID:db568582f2f4ff8d5627387dc88e9e05
X-WR-TIMEZONE:America/New_York
BEGIN:VTIMEZONE
TZID:America/New_York
BEGIN:STANDARD
TZNAME:EST
DTSTART:20251102T020000
TZOFFSETFROM:-0400
TZOFFSETTO:-0500
RDATE:20261101T020000
RDATE:20271107T020000
END:STANDARD
BEGIN:DAYLIGHT
TZNAME:EDT
DTSTART:20260308T020000
TZOFFSETFROM:-0500
TZOFFSETTO:-0400
RDATE:20270314T020000
END:DAYLIGHT
END:VTIMEZONE
BEGIN:VEVENT
UID:19d33575-d88b-4467-acc0-02ef3b37bd65
DTSTAMP:20260419T231124Z
DESCRIPTION:
DTSTART;TZID=America/New_York:20260613T090000
DTEND;TZID=America/New_York:20260613T130000
LOCATION:Sussex County Fairgrounds\, 37 Plains rd\, augusta\, NJ 07822 US
SUMMARY:SCARC Walkathon
END:VEVENT
END:VCALENDAR
