BEGIN:VCALENDAR
VERSION:2.0
PRODID:-//www.arcnj.org//NONSGML kigkonsult.se iCalcreator 2.30.10//
CALSCALE:GREGORIAN
METHOD:PUBLISH
UID:3320b286-e9be-44d5-b532-4002bc3d4e92
X-WR-CALDESC:
X-WR-RELCALID:f6e676135ee48447b2f712a53c0937ae
X-WR-TIMEZONE:America/New_York
BEGIN:VTIMEZONE
TZID:America/New_York
BEGIN:STANDARD
TZNAME:EST
DTSTART:20251102T020000
TZOFFSETFROM:-0400
TZOFFSETTO:-0500
RDATE:20261101T020000
RDATE:20271107T020000
END:STANDARD
BEGIN:DAYLIGHT
TZNAME:EDT
DTSTART:20260308T020000
TZOFFSETFROM:-0500
TZOFFSETTO:-0400
RDATE:20270314T020000
END:DAYLIGHT
END:VTIMEZONE
BEGIN:VEVENT
UID:b616e47f-cf2e-4ebd-b25a-2f6d0ebc2518
DTSTAMP:20260419T213341Z
DESCRIPTION:
DTSTART;TZID=America/New_York:20260531T093000
DTEND;TZID=America/New_York:20260531T120000
LOCATION:162 W. Main St\, Bogota\, NJ 07603 US
SUMMARY:The Arc Bergen & Passaic Walk
END:VEVENT
END:VCALENDAR
