BEGIN:VCALENDAR
VERSION:2.0
PRODID:-//www.arcnj.org//NONSGML kigkonsult.se iCalcreator 2.30.10//
CALSCALE:GREGORIAN
METHOD:PUBLISH
UID:f2d8d56b-9780-453f-b1a0-967ba3dc6b43
X-WR-CALDESC:
X-WR-RELCALID:f929b18d6d19e4c8ed69f5fcb16db4bc
X-WR-TIMEZONE:America/New_York
BEGIN:VTIMEZONE
TZID:America/New_York
BEGIN:STANDARD
TZNAME:EST
DTSTART:20251102T020000
TZOFFSETFROM:-0400
TZOFFSETTO:-0500
RDATE:20261101T020000
RDATE:20271107T020000
END:STANDARD
BEGIN:DAYLIGHT
TZNAME:EDT
DTSTART:20260308T020000
TZOFFSETFROM:-0500
TZOFFSETTO:-0400
RDATE:20270314T020000
END:DAYLIGHT
END:VTIMEZONE
BEGIN:VEVENT
UID:f6877014-1a84-4f23-943d-a0dd5f8dfd8a
DTSTAMP:20260419T213822Z
DESCRIPTION:
DTSTART;TZID=America/New_York:20260530T090000
DTEND;TZID=America/New_York:20260530T120000
LOCATION:Duke Island Park\, 191 Old York Rd\, Bridgewater Township\, NJ 088
 07 US
SUMMARY:The Arc Somerset - Rockin' Breakfast Run 5K
END:VEVENT
END:VCALENDAR
