BEGIN:VCALENDAR
VERSION:2.0
PRODID:-//www.arcnj.org//NONSGML kigkonsult.se iCalcreator 2.30.10//
CALSCALE:GREGORIAN
METHOD:PUBLISH
UID:06ea8652-0dc2-4b76-a4b2-16707f1a1b5d
X-WR-CALDESC:Join The Arc of Atlantic County in celebrating and recognizing
  65 years of service to the community.
X-WR-RELCALID:bfdbff21acce0b5b1bc31e3854011305
X-WR-TIMEZONE:America/New_York
BEGIN:VTIMEZONE
TZID:America/New_York
BEGIN:STANDARD
TZNAME:EST
DTSTART:20251102T020000
TZOFFSETFROM:-0400
TZOFFSETTO:-0500
RDATE:20261101T020000
RDATE:20271107T020000
END:STANDARD
BEGIN:DAYLIGHT
TZNAME:EDT
DTSTART:20260308T020000
TZOFFSETFROM:-0500
TZOFFSETTO:-0400
RDATE:20270314T020000
END:DAYLIGHT
END:VTIMEZONE
BEGIN:VEVENT
UID:802346a9-118f-4660-99a2-de7778dd74ab
DTSTAMP:20260421T083337Z
DESCRIPTION:Join The Arc of Atlantic County in celebrating and recognizing 
 65 years of service to the community.
DTSTART;TZID=America/New_York:20260528T180000
DTEND;TZID=America/New_York:20260528T213000
LOCATION:The Deck at Golden Nugget Casino\, Hotel & Marina\, 600 Huron Aven
 ue\, Atlantic City\, NJ 08401 US
SUMMARY:The Arc Atlantic - Celebrate 65 - An Evening with The Arc of Atlant
 ic County
END:VEVENT
END:VCALENDAR
