BEGIN:VCALENDAR
VERSION:2.0
PRODID:-//www.arcnj.org//NONSGML kigkonsult.se iCalcreator 2.30.10//
CALSCALE:GREGORIAN
METHOD:PUBLISH
UID:0d7d69f7-0b0a-4944-bb39-33ce8b318ba7
X-WR-CALDESC:
X-WR-RELCALID:cd9ebed9aecc05fa1a5c297c5a7595fd
X-WR-TIMEZONE:America/New_York
BEGIN:VTIMEZONE
TZID:America/New_York
BEGIN:STANDARD
TZNAME:EST
DTSTART:20251102T020000
TZOFFSETFROM:-0400
TZOFFSETTO:-0500
RDATE:20261101T020000
RDATE:20271107T020000
END:STANDARD
BEGIN:DAYLIGHT
TZNAME:EDT
DTSTART:20260308T020000
TZOFFSETFROM:-0500
TZOFFSETTO:-0400
RDATE:20270314T020000
END:DAYLIGHT
END:VTIMEZONE
BEGIN:VEVENT
UID:fdded6f6-29dc-4be6-82f5-949a754dea67
DTSTAMP:20260419T213341Z
DESCRIPTION:
DTSTART;TZID=America/New_York:20260527T180000
DTEND;TZID=America/New_York:20260527T220000
LOCATION:Park Avenue Club\, 184 Park Ave\, Florham Park\, NJ 07932 US
SUMMARY:The Arc Morris Awards Gala
END:VEVENT
END:VCALENDAR
