BEGIN:VCALENDAR
VERSION:2.0
PRODID:-//www.arcnj.org//NONSGML kigkonsult.se iCalcreator 2.30.10//
CALSCALE:GREGORIAN
METHOD:PUBLISH
UID:83e0c2c1-562b-4c8a-be99-849a272bd77b
X-WR-CALDESC:
X-WR-RELCALID:80150677d92f5611da3ce2e19380cc90
X-WR-TIMEZONE:America/New_York
BEGIN:VTIMEZONE
TZID:America/New_York
BEGIN:STANDARD
TZNAME:EST
DTSTART:20251102T020000
TZOFFSETFROM:-0400
TZOFFSETTO:-0500
RDATE:20261101T020000
END:STANDARD
BEGIN:DAYLIGHT
TZNAME:EDT
DTSTART:20260308T020000
TZOFFSETFROM:-0500
TZOFFSETTO:-0400
RDATE:20270314T020000
END:DAYLIGHT
END:VTIMEZONE
BEGIN:VEVENT
UID:ca640c00-2014-42fa-a13a-cc615b357d5f
DTSTAMP:20260419T195426Z
DESCRIPTION:
DTSTART;TZID=America/New_York:20260425T103000
DTEND;TZID=America/New_York:20260425T153000
LOCATION:353 Route 537\, Colts Neck\, NJ 07722 US
SUMMARY:The Arc of Monmouth Walk
END:VEVENT
END:VCALENDAR
