BEGIN:VCALENDAR
VERSION:2.0
PRODID:-//www.arcnj.org//NONSGML kigkonsult.se iCalcreator 2.30.10//
CALSCALE:GREGORIAN
METHOD:PUBLISH
UID:165cc034-0363-42b8-96a7-a13a9e78a051
X-WR-CALDESC:
X-WR-RELCALID:006375f68c98249856abfdbe72b22279
X-WR-TIMEZONE:America/New_York
BEGIN:VTIMEZONE
TZID:America/New_York
BEGIN:STANDARD
TZNAME:EST
DTSTART:20251102T020000
TZOFFSETFROM:-0400
TZOFFSETTO:-0500
RDATE:20261101T020000
END:STANDARD
BEGIN:DAYLIGHT
TZNAME:EDT
DTSTART:20260308T020000
TZOFFSETFROM:-0500
TZOFFSETTO:-0400
RDATE:20270314T020000
END:DAYLIGHT
END:VTIMEZONE
BEGIN:VEVENT
UID:0f3f220f-9e27-4850-bafd-f20d48fac538
DTSTAMP:20260419T195628Z
DESCRIPTION:
DTSTART;TZID=America/New_York:20260425T080000
DTEND;TZID=America/New_York:20260425T130000
LOCATION:South Mountain Recreation Complex\, Cherry Lane\, West Orange\, NJ
  07052 US
SUMMARY:The Arc of Essex Walk
END:VEVENT
END:VCALENDAR
