BEGIN:VCALENDAR
VERSION:2.0
PRODID:-//www.arcnj.org//NONSGML kigkonsult.se iCalcreator 2.30.10//
CALSCALE:GREGORIAN
METHOD:PUBLISH
UID:f4eae72e-c595-46e6-847a-2ab811dcc71b
X-WR-CALDESC:Meet\, greet\, eat\, and learn!
X-WR-RELCALID:843e9a476398bee943abc56fc8353932
X-WR-TIMEZONE:America/New_York
BEGIN:VTIMEZONE
TZID:America/New_York
BEGIN:STANDARD
TZNAME:EST
DTSTART:20251102T020000
TZOFFSETFROM:-0400
TZOFFSETTO:-0500
RDATE:20261101T020000
END:STANDARD
BEGIN:DAYLIGHT
TZNAME:EDT
DTSTART:20260308T020000
TZOFFSETFROM:-0500
TZOFFSETTO:-0400
RDATE:20270314T020000
END:DAYLIGHT
END:VTIMEZONE
BEGIN:VEVENT
UID:437b8510-17ef-4643-96a2-c1ff9cb82e76
DTSTAMP:20260419T195605Z
DESCRIPTION:Meet\, greet\, eat\, and learn!
DTSTART;TZID=America/New_York:20260422T173000
DTEND;TZID=America/New_York:20260422T193000
LOCATION:The Arc of Monmouth\, 1158 Wayside Road\, Tinton Falls\, NJ 07712 
 US
SUMMARY:Planning for Adult Life's Great College Fair
END:VEVENT
END:VCALENDAR
