BEGIN:VCALENDAR
VERSION:2.0
PRODID:-//www.arcnj.org//NONSGML kigkonsult.se iCalcreator 2.30.10//
CALSCALE:GREGORIAN
METHOD:PUBLISH
UID:fc4a1e36-5e60-4c76-819e-b22c835c2614
X-WR-CALDESC:
X-WR-RELCALID:177b529c3e1bbe5ea9818adc918195d5
X-WR-TIMEZONE:America/New_York
BEGIN:VTIMEZONE
TZID:America/New_York
BEGIN:STANDARD
TZNAME:EST
DTSTART:20251102T020000
TZOFFSETFROM:-0400
TZOFFSETTO:-0500
RDATE:20261101T020000
END:STANDARD
BEGIN:DAYLIGHT
TZNAME:EDT
DTSTART:20260308T020000
TZOFFSETFROM:-0500
TZOFFSETTO:-0400
RDATE:20270314T020000
END:DAYLIGHT
END:VTIMEZONE
BEGIN:VEVENT
UID:3513f80e-d526-4efa-ae09-3b0d5e7181d4
DTSTAMP:20260419T195433Z
DESCRIPTION:
DTSTART;TZID=America/New_York:20260414T190000
DTEND;TZID=America/New_York:20260414T200000
LOCATION:https://docs.google.com/forms/d/e/1FAIpQLSdDqsFUI8SNkDvWI0rKwOIgDH
 bcdWSqOX1yOiUjGIHNL_KrNw/viewform?pli=1
SUMMARY:Youth Advisory Board Meeting- 18-21 Year Olds
END:VEVENT
END:VCALENDAR
