BEGIN:VCALENDAR
VERSION:2.0
PRODID:-//www.arcnj.org//NONSGML kigkonsult.se iCalcreator 2.30.10//
CALSCALE:GREGORIAN
METHOD:PUBLISH
UID:05f8674f-f9de-405c-8b4f-2c62bf1c8ca5
X-WR-CALDESC:Let's get groovy! Break out the bell bottoms\, fringe\, and fl
 orals—1960s/70s flower power vibes encouraged.
X-WR-RELCALID:5950ddc77a4fdacd3b7a101542f4ab04
X-WR-TIMEZONE:America/New_York
BEGIN:VTIMEZONE
TZID:America/New_York
BEGIN:STANDARD
TZNAME:EST
DTSTART:20251102T020000
TZOFFSETFROM:-0400
TZOFFSETTO:-0500
RDATE:20261101T020000
END:STANDARD
BEGIN:DAYLIGHT
TZNAME:EDT
DTSTART:20260308T020000
TZOFFSETFROM:-0500
TZOFFSETTO:-0400
RDATE:20270314T020000
END:DAYLIGHT
END:VTIMEZONE
BEGIN:VEVENT
UID:b2bdc3ee-1afe-4db4-8751-77054cf88048
DTSTAMP:20260419T195131Z
DESCRIPTION:Let's get groovy! Break out the bell bottoms\, fringe\, and flo
 rals—1960s/70s flower power vibes encouraged.
DTSTART;TZID=America/New_York:20260411T160000
DTEND;TZID=America/New_York:20260411T180000
LOCATION:The Sapphire Grand\, 1849 Cooper Street\, Deptford\, NJ 08096 US
SUMMARY:The Arc Gloucester - Peace\, Love\, & Inclusion Gala
END:VEVENT
END:VCALENDAR
