BEGIN:VCALENDAR
VERSION:2.0
PRODID:-//www.arcnj.org//NONSGML kigkonsult.se iCalcreator 2.30.10//
CALSCALE:GREGORIAN
METHOD:PUBLISH
UID:dcfe18aa-f576-4422-a2c2-17679fd57eda
X-WR-CALDESC:
X-WR-RELCALID:38d4c329333bcd94a0e29165bb7f9014
X-WR-TIMEZONE:America/New_York
BEGIN:VTIMEZONE
TZID:America/New_York
BEGIN:STANDARD
TZNAME:EST
DTSTART:20251102T020000
TZOFFSETFROM:-0400
TZOFFSETTO:-0500
RDATE:20261101T020000
END:STANDARD
BEGIN:DAYLIGHT
TZNAME:EDT
DTSTART:20260308T020000
TZOFFSETFROM:-0500
TZOFFSETTO:-0400
RDATE:20270314T020000
END:DAYLIGHT
END:VTIMEZONE
BEGIN:VEVENT
UID:6ed3c2f8-fe5b-4ade-8ca6-703287b598fa
DTSTAMP:20260419T195148Z
DESCRIPTION:
DTSTART;TZID=America/New_York:20260409T180000
DTEND;TZID=America/New_York:20260409T200000
LOCATION:One Constitution Square\, New Brunswick\, NJ 08901 US
SUMMARY:Annual Meeting of Delegates
END:VEVENT
END:VCALENDAR
