BEGIN:VCALENDAR
VERSION:2.0
PRODID:-//www.arcnj.org//NONSGML kigkonsult.se iCalcreator 2.30.10//
CALSCALE:GREGORIAN
METHOD:PUBLISH
UID:ccb29cdf-dced-4c2b-b9eb-24765229fadc
X-WR-CALDESC:Join us for a virtual art workshop presented by artist and edu
 cator Malik Whitaker! We'll be making art together\, so bring any art supp
 lies you may have.\n\nSUGGESTED SUPPLIES:\n-Pens\, Markers or Paint\n-Pape
 r\n\nMalik Whitaker was born and raised in Newark\, NJ. He is a published 
 illustrator\, educator and visual painter. Malik is also an accomplished m
 uralist whose work can be seen on several buildings\, churches and college
 s throughout NJ. He specializes in portrait and figurative painting impres
 sions through visual translation based on individualized customer needs. H
 e has studied many forms of art\; oil\, watercolor\, acrylic\, pencil\, ch
 arcoal and pastels. He currently is the owner of M-Print Art studios in Ne
 wark\, where he continues to display his art while working on projects and
  mentoring students with disabilities. Malik is also currently a teaching 
 artist with NJPAC\, Studio Institute of New York and Studio Montclair and 
 the owner of Cement Gallery.
X-WR-RELCALID:f780449345d157293a58073e77e2eed8
X-WR-TIMEZONE:America/New_York
BEGIN:VTIMEZONE
TZID:America/New_York
BEGIN:STANDARD
TZNAME:EST
DTSTART:20251102T020000
TZOFFSETFROM:-0400
TZOFFSETTO:-0500
RDATE:20261101T020000
END:STANDARD
BEGIN:DAYLIGHT
TZNAME:EDT
DTSTART:20260308T020000
TZOFFSETFROM:-0500
TZOFFSETTO:-0400
RDATE:20270314T020000
END:DAYLIGHT
END:VTIMEZONE
BEGIN:VEVENT
UID:cceb2201-7036-4bcf-9b45-55df50c320ed
DTSTAMP:20260419T194812Z
DESCRIPTION:Join us for a virtual art workshop presented by artist and educ
 ator Malik Whitaker! We'll be making art together\, so bring any art suppl
 ies you may have.\n\nSUGGESTED SUPPLIES:\n-Pens\, Markers or Paint\n-Paper
 \n\nMalik Whitaker was born and raised in Newark\, NJ. He is a published i
 llustrator\, educator and visual painter. Malik is also an accomplished mu
 ralist whose work can be seen on several buildings\, churches and colleges
  throughout NJ. He specializes in portrait and figurative painting impress
 ions through visual translation based on individualized customer needs. He
  has studied many forms of art\; oil\, watercolor\, acrylic\, pencil\, cha
 rcoal and pastels. He currently is the owner of M-Print Art studios in New
 ark\, where he continues to display his art while working on projects and 
 mentoring students with disabilities. Malik is also currently a teaching a
 rtist with NJPAC\, Studio Institute of New York and Studio Montclair and t
 he owner of Cement Gallery.
DTSTART;TZID=America/New_York:20260401T110000
DTEND;TZID=America/New_York:20260401T120000
LOCATION:https://us06web.zoom.us/meeting/register/ZcujlEFHTYmkrn2pg4378A#/r
 egistration
SUMMARY:Art Workshop
END:VEVENT
END:VCALENDAR
