BEGIN:VCALENDAR
VERSION:2.0
PRODID:-//www.arcnj.org//NONSGML kigkonsult.se iCalcreator 2.30.10//
CALSCALE:GREGORIAN
METHOD:PUBLISH
UID:2dd04afa-b1e7-4994-9bd8-8e2d030f5221
X-WR-CALDESC:**This is a recording of a previous webinar. Experience it for
  the first time or rewatch it to gain a better understanding of the topic.
  The question box will be open and we will respond to any questions 24 hou
 rs after the event.\n\nPresented by Erin Smithers and Ashley Ritchey of th
 e NJ Self-Advocacy Project team\, this webinar is open to Self-Advocacy Gr
 oup Advisors of all experience and skill levels. We will share tips and te
 chniques to optimize the efficiency of existing self-advocacy groups and d
 iscuss how to establish a successful self-advocacy group at your school or
  agency. We will also explore the role and responsibilities of Group Advis
 ors. Case examples based on our collective 20+ years of experience advisin
 g groups will be used to prompt discussion and highlight common areas of i
 nterest to Group Advisors.
X-WR-RELCALID:3d7f52bff61028745220e5fbfad6c097
X-WR-TIMEZONE:America/New_York
BEGIN:VTIMEZONE
TZID:America/New_York
BEGIN:STANDARD
TZNAME:EST
DTSTART:20251102T020000
TZOFFSETFROM:-0400
TZOFFSETTO:-0500
RDATE:20261101T020000
END:STANDARD
BEGIN:DAYLIGHT
TZNAME:EDT
DTSTART:20260308T020000
TZOFFSETFROM:-0500
TZOFFSETTO:-0400
RDATE:20270314T020000
END:DAYLIGHT
END:VTIMEZONE
BEGIN:VEVENT
UID:e09d015c-5d73-47eb-8fa3-56068d211052
DTSTAMP:20260419T213858Z
DESCRIPTION:**This is a recording of a previous webinar. Experience it for 
 the first time or rewatch it to gain a better understanding of the topic. 
 The question box will be open and we will respond to any questions 24 hour
 s after the event.\n\nPresented by Erin Smithers and Ashley Ritchey of the
  NJ Self-Advocacy Project team\, this webinar is open to Self-Advocacy Gro
 up Advisors of all experience and skill levels. We will share tips and tec
 hniques to optimize the efficiency of existing self-advocacy groups and di
 scuss how to establish a successful self-advocacy group at your school or 
 agency. We will also explore the role and responsibilities of Group Adviso
 rs. Case examples based on our collective 20+ years of experience advising
  groups will be used to prompt discussion and highlight common areas of in
 terest to Group Advisors.
DTSTART;TZID=America/New_York:20260331T140000
DTEND;TZID=America/New_York:20260331T150000
LOCATION:https://us06web.zoom.us/webinar/register/WN_azBjbEfjT_qw4soXpnXRLg
 #/
SUMMARY:REPLAY: Sage Advice: Tips for Self-Advocacy Group Advisors
END:VEVENT
END:VCALENDAR
