BEGIN:VCALENDAR
VERSION:2.0
PRODID:-//www.arcnj.org//NONSGML kigkonsult.se iCalcreator 2.30.10//
CALSCALE:GREGORIAN
METHOD:PUBLISH
UID:94493e23-d503-41e1-860c-dfe6f619df4a
X-WR-CALDESC:Join The Arc Middlesex County for their Sensory Room Fundraisi
 ng Dinner on March 26th! Find out more and register here: https://arc-midd
 lesex.networkforgood.com/events/98423-the-arc-middlesex-county-sensory-roo
 m-fundraising-dinner
X-WR-RELCALID:3778f918c2e93d23d3fc91f6f190ff1d
X-WR-TIMEZONE:America/New_York
BEGIN:VTIMEZONE
TZID:America/New_York
BEGIN:STANDARD
TZNAME:EST
DTSTART:20251102T020000
TZOFFSETFROM:-0400
TZOFFSETTO:-0500
RDATE:20261101T020000
END:STANDARD
BEGIN:DAYLIGHT
TZNAME:EDT
DTSTART:20260308T020000
TZOFFSETFROM:-0500
TZOFFSETTO:-0400
RDATE:20270314T020000
END:DAYLIGHT
END:VTIMEZONE
BEGIN:VEVENT
UID:f1d59e7b-772e-461f-98cc-c580f93da7b1
DTSTAMP:20260419T213718Z
DESCRIPTION:Join The Arc Middlesex County for their Sensory Room Fundraisin
 g Dinner on March 26th! Find out more and register here: https://arc-middl
 esex.networkforgood.com/events/98423-the-arc-middlesex-county-sensory-room
 -fundraising-dinner
DTSTART;TZID=America/New_York:20260326T173000
DTEND;TZID=America/New_York:20260326T203000
LOCATION:Embassy Suites by Hilton Hotel\, 121 Centennial Ave\, Piscataway\,
  NJ 08854 US
SUMMARY:The Arc Middlesex County - Sensory Room Fundraising Dinner
END:VEVENT
END:VCALENDAR
