BEGIN:VCALENDAR
VERSION:2.0
PRODID:-//www.arcnj.org//NONSGML kigkonsult.se iCalcreator 2.30.10//
CALSCALE:GREGORIAN
METHOD:PUBLISH
UID:c613c519-3e62-4951-84c1-e0c63110941c
X-WR-CALDESC:The class will be a gentle\, basic level\, beginner yoga class
 .  We will start seated on the mats with some simple breathing techniques 
 to settle in.  We will move through a series of poses. (seated\, standing\
 , lying down on the back\, etc.)  It will be simple and modifications can 
 be offered as needed.  We will end with a guided relaxation at the end\, w
 ith everyone lying down.\n\nPlease have either a yoga mat (preferred) or s
 omething you can sit and lie comfortably on.\n\nRenee Kroeker is a private
  yoga teacher located in Staten Island\, NY. She has a diverse\nprofession
 al background that weaves together theatre\, social work\, and special edu
 cation. Renee is experienced in working with “differently-abled” children 
 and adults\, including stroke survivors\, persons with multiple sclerosis\
 , individuals on the autism spectrum\, persons with down syndrome\, and th
 ose recovering from illness or injury. She always brings a sense of calm a
 nd gentleness into these unique sessions. Renee received her 200 hour yoga
  teacher from Breathe For Change in 2017. She has been a member of the Pea
 ceful Potato team since 2022.
X-WR-RELCALID:c7fb39e2f8bef410319fbe753bd8bb00
X-WR-TIMEZONE:America/New_York
BEGIN:VTIMEZONE
TZID:America/New_York
BEGIN:STANDARD
TZNAME:EST
DTSTART:20251102T020000
TZOFFSETFROM:-0400
TZOFFSETTO:-0500
RDATE:20261101T020000
END:STANDARD
BEGIN:DAYLIGHT
TZNAME:EDT
DTSTART:20260308T020000
TZOFFSETFROM:-0500
TZOFFSETTO:-0400
RDATE:20270314T020000
END:DAYLIGHT
END:VTIMEZONE
BEGIN:VEVENT
UID:f97a1a44-6392-466a-816d-391cd7e9b276
DTSTAMP:20260419T213530Z
DESCRIPTION:The class will be a gentle\, basic level\, beginner yoga class.
   We will start seated on the mats with some simple breathing techniques t
 o settle in.  We will move through a series of poses. (seated\, standing\,
  lying down on the back\, etc.)  It will be simple and modifications can b
 e offered as needed.  We will end with a guided relaxation at the end\, wi
 th everyone lying down.\n\nPlease have either a yoga mat (preferred) or so
 mething you can sit and lie comfortably on.\n\nRenee Kroeker is a private 
 yoga teacher located in Staten Island\, NY. She has a diverse\nprofessiona
 l background that weaves together theatre\, social work\, and special educ
 ation. Renee is experienced in working with “differently-abled” children a
 nd adults\, including stroke survivors\, persons with multiple sclerosis\,
  individuals on the autism spectrum\, persons with down syndrome\, and tho
 se recovering from illness or injury. She always brings a sense of calm an
 d gentleness into these unique sessions. Renee received her 200 hour yoga 
 teacher from Breathe For Change in 2017. She has been a member of the Peac
 eful Potato team since 2022.
DTSTART;TZID=America/New_York:20260325T110000
DTEND;TZID=America/New_York:20260325T120000
LOCATION:https://us06web.zoom.us/meeting/register/gk1e2ReUTSazdPBULvkyvg#/r
 egistration
SUMMARY:Peaceful Potato Yoga
END:VEVENT
END:VCALENDAR
