BEGIN:VCALENDAR
VERSION:2.0
PRODID:-//www.arcnj.org//NONSGML kigkonsult.se iCalcreator 2.30.10//
CALSCALE:GREGORIAN
METHOD:PUBLISH
UID:f27e6e67-c45f-4bdf-ab8a-c42cb38a6882
X-WR-CALDESC:
X-WR-RELCALID:322e5d3147956a9ce49357f2e1896a41
X-WR-TIMEZONE:America/New_York
BEGIN:VTIMEZONE
TZID:America/New_York
BEGIN:STANDARD
TZNAME:EST
DTSTART:20251102T020000
TZOFFSETFROM:-0400
TZOFFSETTO:-0500
RDATE:20261101T020000
END:STANDARD
BEGIN:DAYLIGHT
TZNAME:EDT
DTSTART:20260308T020000
TZOFFSETFROM:-0500
TZOFFSETTO:-0400
RDATE:20270314T020000
END:DAYLIGHT
END:VTIMEZONE
BEGIN:VEVENT
UID:be765d4b-74ca-47c8-889e-5d8f0e2515a6
DTSTAMP:20260419T214230Z
DESCRIPTION:
DTSTART;TZID=America/New_York:20260325T190000
DTEND;TZID=America/New_York:20260325T203000
LOCATION:https://us06web.zoom.us/webinar/register/WN_aSCpIx-ZSlyPqUBl2092dg
 #/registration
SUMMARY:Meet Us in the Middle Webinar: Grandparents and the Transitioning I
 ndividual
END:VEVENT
END:VCALENDAR
