BEGIN:VCALENDAR
VERSION:2.0
PRODID:-//www.arcnj.org//NONSGML kigkonsult.se iCalcreator 2.30.10//
CALSCALE:GREGORIAN
METHOD:PUBLISH
UID:b165c130-e461-4be3-9be2-9384b5e60ed9
X-WR-CALDESC:**This is a recording of a previous webinar. Experience it for
  the first time or rewatch it to gain a better understanding of the topic.
  The question box will be open and we will respond to any questions 24 hou
 rs after the event. \n\nGuest presenter Veronica Ramirez of Vero Pure Gree
 n discusses how to improve a healthy brain through diet\, including topics
  such as brain food\, foods to fuel our brain\, primary foods\, secondary 
 foods\, small steps to protect our brain\, and aging and the future. She w
 ill also be giving a simple recipe at the end to improve Brain Health.
X-WR-RELCALID:ff203342a0aa4f32f2f418747678bdb2
X-WR-TIMEZONE:America/New_York
BEGIN:VTIMEZONE
TZID:America/New_York
BEGIN:STANDARD
TZNAME:EST
DTSTART:20251102T020000
TZOFFSETFROM:-0400
TZOFFSETTO:-0500
RDATE:20261101T020000
END:STANDARD
BEGIN:DAYLIGHT
TZNAME:EDT
DTSTART:20260308T020000
TZOFFSETFROM:-0500
TZOFFSETTO:-0400
RDATE:20270314T020000
END:DAYLIGHT
END:VTIMEZONE
BEGIN:VEVENT
UID:5f1b989f-3933-4035-a907-c59430445c40
DTSTAMP:20260419T214021Z
DESCRIPTION:**This is a recording of a previous webinar. Experience it for 
 the first time or rewatch it to gain a better understanding of the topic. 
 The question box will be open and we will respond to any questions 24 hour
 s after the event. \n\nGuest presenter Veronica Ramirez of Vero Pure Green
  discusses how to improve a healthy brain through diet\, including topics 
 such as brain food\, foods to fuel our brain\, primary foods\, secondary f
 oods\, small steps to protect our brain\, and aging and the future. She wi
 ll also be giving a simple recipe at the end to improve Brain Health.
DTSTART;TZID=America/New_York:20260324T140000
DTEND;TZID=America/New_York:20260324T150000
LOCATION:https://us06web.zoom.us/webinar/register/WN_UXXGqn36RiyFtOwHBIawgw
 #/registration
SUMMARY:REPLAY: Brain Health and Nutrition
END:VEVENT
END:VCALENDAR
