BEGIN:VCALENDAR
VERSION:2.0
PRODID:-//www.arcnj.org//NONSGML kigkonsult.se iCalcreator 2.30.10//
CALSCALE:GREGORIAN
METHOD:PUBLISH
UID:daa53879-719f-47b1-a0dc-2fbc0f1dc10c
X-WR-CALDESC:
X-WR-RELCALID:cfea227e6ce142f031850ce18c538d7f
X-WR-TIMEZONE:America/New_York
BEGIN:VTIMEZONE
TZID:America/New_York
BEGIN:STANDARD
TZNAME:EST
DTSTART:20251102T020000
TZOFFSETFROM:-0400
TZOFFSETTO:-0500
RDATE:20261101T020000
END:STANDARD
BEGIN:DAYLIGHT
TZNAME:EDT
DTSTART:20260308T020000
TZOFFSETFROM:-0500
TZOFFSETTO:-0400
RDATE:20270314T020000
END:DAYLIGHT
END:VTIMEZONE
BEGIN:VEVENT
UID:3b4f7352-1fe8-4dc2-8219-aded21e36353
DTSTAMP:20260419T212127Z
DESCRIPTION:
DTSTART;TZID=America/New_York:20260319T180000
DTEND;TZID=America/New_York:20260319T220000
LOCATION:Perona Farms\, 350 Andover Sparta Rd\, Andover\, NJ 07821 US
SUMMARY:SCARC Foundation Dinner
END:VEVENT
END:VCALENDAR
