BEGIN:VCALENDAR
VERSION:2.0
PRODID:-//www.arcnj.org//NONSGML kigkonsult.se iCalcreator 2.30.10//
CALSCALE:GREGORIAN
METHOD:PUBLISH
UID:b6df5492-3cd9-4e6a-aab6-3f71ea37b71b
X-WR-CALDESC:
X-WR-RELCALID:1f4d4fcac10271bf8703e691ac98a198
X-WR-TIMEZONE:America/New_York
BEGIN:VTIMEZONE
TZID:America/New_York
BEGIN:STANDARD
TZNAME:EST
DTSTART:20251102T020000
TZOFFSETFROM:-0400
TZOFFSETTO:-0500
RDATE:20261101T020000
END:STANDARD
BEGIN:DAYLIGHT
TZNAME:EDT
DTSTART:20260308T020000
TZOFFSETFROM:-0500
TZOFFSETTO:-0400
RDATE:20270314T020000
END:DAYLIGHT
END:VTIMEZONE
BEGIN:VEVENT
UID:ed24b98f-65f6-4bb1-b15f-fa6641876b94
DTSTAMP:20260419T213230Z
DESCRIPTION:
DTSTART;TZID=America/New_York:20260318T180000
DTEND;TZID=America/New_York:20260318T210000
LOCATION:The Clarion Toms River\, 815 NJ-37\, TOMS RIVER\, NJ 08753 US
SUMMARY:The Arc Ocean Catalyst Awards
END:VEVENT
END:VCALENDAR
