BEGIN:VCALENDAR
VERSION:2.0
PRODID:-//www.arcnj.org//NONSGML kigkonsult.se iCalcreator 2.30.10//
CALSCALE:GREGORIAN
METHOD:PUBLISH
UID:e7ea244c-d585-4e79-8ec5-23466a975d5c
X-WR-CALDESC:
X-WR-RELCALID:1465432f2c206da534431f5df254152c
X-WR-TIMEZONE:America/New_York
BEGIN:VTIMEZONE
TZID:America/New_York
BEGIN:STANDARD
TZNAME:EST
DTSTART:20251102T020000
TZOFFSETFROM:-0400
TZOFFSETTO:-0500
RDATE:20261101T020000
END:STANDARD
BEGIN:DAYLIGHT
TZNAME:EDT
DTSTART:20260308T020000
TZOFFSETFROM:-0500
TZOFFSETTO:-0400
RDATE:20270314T020000
END:DAYLIGHT
END:VTIMEZONE
BEGIN:VEVENT
UID:9cd887ed-d38e-48e7-9339-c3d617232176
DTSTAMP:20260419T214230Z
DESCRIPTION:
DTSTART;TZID=America/New_York:20260318T120000
DTEND;TZID=America/New_York:20260318T133000
LOCATION:https://attendee.gotowebinar.com/register/929662822564802391
SUMMARY:New Jersey Catastrophic Illness in Children Relief Fund
END:VEVENT
END:VCALENDAR
