BEGIN:VCALENDAR
VERSION:2.0
PRODID:-//www.arcnj.org//NONSGML kigkonsult.se iCalcreator 2.30.10//
CALSCALE:GREGORIAN
METHOD:PUBLISH
UID:f98ab08a-624a-4346-81d0-4ed9e3289f2f
X-WR-CALDESC:Bring your questions and bring your students (there will be su
 pervised activities while you enjoy some respite and learning)!
X-WR-RELCALID:a9f0eab9006f88007e7ea30aea38e599
X-WR-TIMEZONE:America/New_York
BEGIN:VTIMEZONE
TZID:America/New_York
BEGIN:STANDARD
TZNAME:EST
DTSTART:20251102T020000
TZOFFSETFROM:-0400
TZOFFSETTO:-0500
RDATE:20261101T020000
END:STANDARD
BEGIN:DAYLIGHT
TZNAME:EDT
DTSTART:20260308T020000
TZOFFSETFROM:-0500
TZOFFSETTO:-0400
RDATE:20270314T020000
END:DAYLIGHT
END:VTIMEZONE
BEGIN:VEVENT
UID:bb25186a-d485-4f23-8090-d8fea9679320
DTSTAMP:20260419T213334Z
DESCRIPTION:Bring your questions and bring your students (there will be sup
 ervised activities while you enjoy some respite and learning)!
DTSTART;TZID=America/New_York:20260318T170000
DTEND;TZID=America/New_York:20260318T190000
LOCATION:The Arc of Essex\, 50 Burnett Avenue\, #3\, Maplewood\, NJ 07040 U
 S
SUMMARY:Dinner and Deets (About Transitioning to Adulthood)
END:VEVENT
END:VCALENDAR
