BEGIN:VCALENDAR
VERSION:2.0
PRODID:-//www.arcnj.org//NONSGML kigkonsult.se iCalcreator 2.30.10//
CALSCALE:GREGORIAN
METHOD:PUBLISH
UID:5fb3682f-e56e-4882-9a7e-ce29fff367f1
X-WR-CALDESC:**This is a recording of a previous webinar. Experience it for
  the first time or rewatch it to gain a better understanding of the topic.
  The question box will be open and we will respond to any questions 24 hou
 rs after the event.\n\nThis webinar will be presented by Sorretie Jaro\, a
  Self-Advocate from Spokane\, WA. Sorretie is a former SARTAC Fellow and c
 urrent Chairperson of the Washington State Developmental Disabilities Ombu
 ds Advisory Committee. Attendees will learn about Sorretie's Fellowship pr
 oject which focuses on empowering self-advocates to connect with legislato
 rs and decision makers by creating videos to highlight different advocacy 
 issues. Sorretie will also discuss tips for helping other self-advocates c
 ommunicate with their elected representatives and understand different typ
 es of advocacy.\n \nSorretie Jaro is a self-advocate from Spokane\, WA. Cu
 rrently\, Ms. Jaro is Chair Person of the DD Ombuds Advisory Committee. So
 rretie is passionate about self-advocacy and believes that everyone has th
 e right to learn how to use their skills\, whether it be sticking up for y
 ourself and fighting for change to make the world a better place for every
 body to live.
X-WR-RELCALID:786006eacf67437237fe0d5fedc2a657
X-WR-TIMEZONE:America/New_York
BEGIN:VTIMEZONE
TZID:America/New_York
BEGIN:STANDARD
TZNAME:EST
DTSTART:20251102T020000
TZOFFSETFROM:-0400
TZOFFSETTO:-0500
RDATE:20261101T020000
END:STANDARD
BEGIN:DAYLIGHT
TZNAME:EDT
DTSTART:20260308T020000
TZOFFSETFROM:-0500
TZOFFSETTO:-0400
RDATE:20270314T020000
END:DAYLIGHT
END:VTIMEZONE
BEGIN:VEVENT
UID:d9cb8ed9-7adf-42a4-8b13-67fef7f25543
DTSTAMP:20260419T214009Z
DESCRIPTION:**This is a recording of a previous webinar. Experience it for 
 the first time or rewatch it to gain a better understanding of the topic. 
 The question box will be open and we will respond to any questions 24 hour
 s after the event.\n\nThis webinar will be presented by Sorretie Jaro\, a 
 Self-Advocate from Spokane\, WA. Sorretie is a former SARTAC Fellow and cu
 rrent Chairperson of the Washington State Developmental Disabilities Ombud
 s Advisory Committee. Attendees will learn about Sorretie's Fellowship pro
 ject which focuses on empowering self-advocates to connect with legislator
 s and decision makers by creating videos to highlight different advocacy i
 ssues. Sorretie will also discuss tips for helping other self-advocates co
 mmunicate with their elected representatives and understand different type
 s of advocacy.\n \nSorretie Jaro is a self-advocate from Spokane\, WA. Cur
 rently\, Ms. Jaro is Chair Person of the DD Ombuds Advisory Committee. Sor
 retie is passionate about self-advocacy and believes that everyone has the
  right to learn how to use their skills\, whether it be sticking up for yo
 urself and fighting for change to make the world a better place for everyb
 ody to live.
DTSTART;TZID=America/New_York:20260317T140000
DTEND;TZID=America/New_York:20260317T150000
LOCATION:https://us06web.zoom.us/webinar/register/WN_VtXWSFLQSMino2fXyQfe4g
 #/
SUMMARY:REPLAY: Empowering Legislative Advocates Through Video
END:VEVENT
END:VCALENDAR
