BEGIN:VCALENDAR
VERSION:2.0
PRODID:-//www.arcnj.org//NONSGML kigkonsult.se iCalcreator 2.30.10//
CALSCALE:GREGORIAN
METHOD:PUBLISH
UID:f7e18071-6315-4acf-8bdc-d431f0d6e7bb
X-WR-CALDESC:
X-WR-RELCALID:b14019a932c291dbdbe03c02acd073c5
X-WR-TIMEZONE:America/New_York
BEGIN:VTIMEZONE
TZID:America/New_York
BEGIN:STANDARD
TZNAME:EST
DTSTART:20251102T020000
TZOFFSETFROM:-0400
TZOFFSETTO:-0500
RDATE:20261101T020000
END:STANDARD
BEGIN:DAYLIGHT
TZNAME:EDT
DTSTART:20260308T020000
TZOFFSETFROM:-0500
TZOFFSETTO:-0400
RDATE:20270314T020000
END:DAYLIGHT
END:VTIMEZONE
BEGIN:VEVENT
UID:8842aa3a-c14f-4bd0-86fa-8a017b7f9cfb
DTSTAMP:20260419T213810Z
DESCRIPTION:
DTSTART;TZID=America/New_York:20260315T090000
DTEND;TZID=America/New_York:20260315T123000
LOCATION:Oak Ridge Park\, 136 Oak Ridge Rd\, Clark\, NJ 07066 US
SUMMARY:The Arc Union Shamrock Shuffle
END:VEVENT
END:VCALENDAR
