BEGIN:VCALENDAR
VERSION:2.0
PRODID:-//www.arcnj.org//NONSGML kigkonsult.se iCalcreator 2.30.10//
CALSCALE:GREGORIAN
METHOD:PUBLISH
UID:cb94d1a3-3018-402c-a33d-09388436845d
X-WR-CALDESC:
X-WR-RELCALID:a4580345be44b465d6665896706d28b0
X-WR-TIMEZONE:America/New_York
BEGIN:VTIMEZONE
TZID:America/New_York
BEGIN:STANDARD
TZNAME:EST
DTSTART:20251102T020000
TZOFFSETFROM:-0400
TZOFFSETTO:-0500
RDATE:20261101T020000
END:STANDARD
BEGIN:DAYLIGHT
TZNAME:EDT
DTSTART:20260308T020000
TZOFFSETFROM:-0500
TZOFFSETTO:-0400
RDATE:20270314T020000
END:DAYLIGHT
END:VTIMEZONE
BEGIN:VEVENT
UID:8878d831-8f89-4b06-8bd4-0015746c68df
DTSTAMP:20260419T214144Z
DESCRIPTION:
DTSTART;TZID=America/New_York:20260311T133000
DTEND;TZID=America/New_York:20260311T143000
LOCATION:https://docs.google.com/forms/d/e/1FAIpQLSdDqsFUI8SNkDvWI0rKwOIgDH
 bcdWSqOX1yOiUjGIHNL_KrNw/viewform?pli=1
SUMMARY:Youth Advisory Board Meeting- 18-21 Year Olds
END:VEVENT
END:VCALENDAR
