BEGIN:VCALENDAR
VERSION:2.0
PRODID:-//www.arcnj.org//NONSGML kigkonsult.se iCalcreator 2.30.10//
CALSCALE:GREGORIAN
METHOD:PUBLISH
UID:8fd83261-71d9-4dfd-8dc2-244af47173f0
X-WR-CALDESC:The American Art Therapy Association defines Art therapy as an
  integrative mental health and human services profession that enriches the
  lives of individuals\, families\, and communities through active art-maki
 ng\, creative process\, applied psychological theory\, and human experienc
 e within a psychotherapeutic relationship. Materials needed: White paper\,
  drawing tools (such as markers\, colored pencils\, pastels\, paint etc) W
 hatever you have on hand should work! \n\nKim Traina-Nolan\, MA\, LAC\, LC
 AT\, ATR-BC\, ATCS is an art psychotherapist with a private practice and s
 pecialty in serving Millennial and Gen Z population in Boonton\, N.J. She 
 is an adjunct professor for the clinical mental health counseling degree p
 rogram with specialization in Art Therapy at Caldwell University. She is a
  graduate of New York University and received a Masters degree in Art Ther
 apy. She also holds a Masters in Mental Health Counseling from Boston Grad
 uate School of Psychoanalysis. She is currently an advanced candidate of M
 odern Psychoanalysis at ACAP in Livingston\, NJ.
X-WR-RELCALID:b4002c2ef15e533c28b9fd2caaf77b1f
X-WR-TIMEZONE:America/New_York
BEGIN:VTIMEZONE
TZID:America/New_York
BEGIN:STANDARD
TZNAME:EST
DTSTART:20251102T020000
TZOFFSETFROM:-0400
TZOFFSETTO:-0500
RDATE:20261101T020000
END:STANDARD
BEGIN:DAYLIGHT
TZNAME:EDT
DTSTART:20260308T020000
TZOFFSETFROM:-0500
TZOFFSETTO:-0400
RDATE:20270314T020000
END:DAYLIGHT
END:VTIMEZONE
BEGIN:VEVENT
UID:67bf9e1e-db35-46eb-bf3c-742ce08d151b
DTSTAMP:20260419T213211Z
DESCRIPTION:The American Art Therapy Association defines Art therapy as an 
 integrative mental health and human services profession that enriches the 
 lives of individuals\, families\, and communities through active art-makin
 g\, creative process\, applied psychological theory\, and human experience
  within a psychotherapeutic relationship. Materials needed: White paper\, 
 drawing tools (such as markers\, colored pencils\, pastels\, paint etc) Wh
 atever you have on hand should work! \n\nKim Traina-Nolan\, MA\, LAC\, LCA
 T\, ATR-BC\, ATCS is an art psychotherapist with a private practice and sp
 ecialty in serving Millennial and Gen Z population in Boonton\, N.J. She i
 s an adjunct professor for the clinical mental health counseling degree pr
 ogram with specialization in Art Therapy at Caldwell University. She is a 
 graduate of New York University and received a Masters degree in Art Thera
 py. She also holds a Masters in Mental Health Counseling from Boston Gradu
 ate School of Psychoanalysis. She is currently an advanced candidate of Mo
 dern Psychoanalysis at ACAP in Livingston\, NJ.
DTSTART;TZID=America/New_York:20260311T110000
DTEND;TZID=America/New_York:20260311T120000
LOCATION:https://us06web.zoom.us/meeting/register/PntMKS_DRMmtj1DYV6WjTg#/r
 egistration
SUMMARY:Art Therapy
END:VEVENT
END:VCALENDAR
