BEGIN:VCALENDAR
VERSION:2.0
PRODID:-//www.arcnj.org//NONSGML kigkonsult.se iCalcreator 2.30.10//
CALSCALE:GREGORIAN
METHOD:PUBLISH
UID:41f64092-1394-4d5d-b84d-20bb05ee7c1d
X-WR-CALDESC:**This is a recording of a previous webinar. Experience it for
  the first time or rewatch it to gain a better understanding of the topic.
  The question box will be open and we will respond to any questions 24 hou
 rs after the event. \n\nThis webinar is all about communication and AAC (a
 ugmentative and alternative communication). Communication devices\, system
 s\, strategies and tools that replace or support natural speech are known 
 as AAC. These tools support a person who has difficulties communicating us
 ing speech. The webinar will discuss all the tools and strategies a person
  can use to communicate\, even when they are not able to speak. This webin
 ar features guest presenter Kate Flaxman MS CCC-SLP\, who works at Advanci
 ng Opportunities as an Augmentative Communication Specialist. She has had 
 a diversified experience working with individuals with complex communicati
 on needs who require augmentative and alternative communication (AAC) in s
 chools\, adult placement settings\, homes\, and for employment. She strive
 s to promote communication for the purpose of improving lives through inte
 ractions with parents\, peers\, caregivers\, and school personnel.
X-WR-RELCALID:39f2f9ac9b6e68caca49b6f279e10188
X-WR-TIMEZONE:America/New_York
BEGIN:VTIMEZONE
TZID:America/New_York
BEGIN:STANDARD
TZNAME:EST
DTSTART:20251102T020000
TZOFFSETFROM:-0400
TZOFFSETTO:-0500
RDATE:20261101T020000
END:STANDARD
BEGIN:DAYLIGHT
TZNAME:EDT
DTSTART:20260308T020000
TZOFFSETFROM:-0500
TZOFFSETTO:-0400
RDATE:20270314T020000
END:DAYLIGHT
END:VTIMEZONE
BEGIN:VEVENT
UID:9566abcf-71b1-44c6-8eac-fa24d3dd9d6a
DTSTAMP:20260419T211837Z
DESCRIPTION:**This is a recording of a previous webinar. Experience it for 
 the first time or rewatch it to gain a better understanding of the topic. 
 The question box will be open and we will respond to any questions 24 hour
 s after the event. \n\nThis webinar is all about communication and AAC (au
 gmentative and alternative communication). Communication devices\, systems
 \, strategies and tools that replace or support natural speech are known a
 s AAC. These tools support a person who has difficulties communicating usi
 ng speech. The webinar will discuss all the tools and strategies a person 
 can use to communicate\, even when they are not able to speak. This webina
 r features guest presenter Kate Flaxman MS CCC-SLP\, who works at Advancin
 g Opportunities as an Augmentative Communication Specialist. She has had a
  diversified experience working with individuals with complex communicatio
 n needs who require augmentative and alternative communication (AAC) in sc
 hools\, adult placement settings\, homes\, and for employment. She strives
  to promote communication for the purpose of improving lives through inter
 actions with parents\, peers\, caregivers\, and school personnel.
DTSTART;TZID=America/New_York:20260310T140000
DTEND;TZID=America/New_York:20260310T150000
LOCATION:https://us06web.zoom.us/webinar/register/WN_8hLJr3bmQS6MzogwcBlctA
 #/
SUMMARY:REPLAY: Augmentative & Alternative Communication
END:VEVENT
END:VCALENDAR
