BEGIN:VCALENDAR
VERSION:2.0
PRODID:-//www.arcnj.org//NONSGML kigkonsult.se iCalcreator 2.30.10//
CALSCALE:GREGORIAN
METHOD:PUBLISH
UID:a41cffc0-5fa6-4f27-b512-2b41fabfac38
X-WR-CALDESC:
X-WR-RELCALID:6475614776d11fd72573e0ae5aa1ec2f
X-WR-TIMEZONE:America/New_York
BEGIN:VTIMEZONE
TZID:America/New_York
BEGIN:STANDARD
TZNAME:EST
DTSTART:20251102T020000
TZOFFSETFROM:-0400
TZOFFSETTO:-0500
RDATE:20261101T020000
END:STANDARD
BEGIN:DAYLIGHT
TZNAME:EDT
DTSTART:20250309T020000
TZOFFSETFROM:-0500
TZOFFSETTO:-0400
RDATE:20260308T020000
RDATE:20270314T020000
END:DAYLIGHT
END:VTIMEZONE
BEGIN:VEVENT
UID:87b84ed9-035b-4150-b0c8-3b6223e6aa4e
DTSTAMP:20260419T214612Z
DESCRIPTION:
DTSTART;TZID=America/New_York:20260305T120000
DTEND;TZID=America/New_York:20260305T140000
LOCATION:393 Mantoloking Rd\, Brick\, NJ 08723 US
SUMMARY:The Arc Ocean DD Awareness Month Lunch Break
END:VEVENT
END:VCALENDAR
