BEGIN:VCALENDAR
VERSION:2.0
PRODID:-//www.arcnj.org//NONSGML kigkonsult.se iCalcreator 2.30.10//
CALSCALE:GREGORIAN
METHOD:PUBLISH
UID:f9a16a88-62d6-4c15-b606-5b8a4774e747
X-WR-CALDESC:Our guest presenter for this event is Veronica Ramirez\, owner
  of Vero Pure Green\, Health Coaching Services. She will be providing nutr
 ition tips and teaching us how to prepare a healthy and delicious recipe. 
  If you'd like to follow along please make sure to have the below ingredie
 nts on hand:\n**To be provided\n\nVeronica Ramirez is a long distance runn
 er\, educator and  a Certified Integrative Nutritional Health Coach. She i
 s also a wife\, a busy mom of two amazing boys and lifelong fitness fan.\n
 \nVeronica is extremely  passionate about health and movement  and also ab
 out the power of raw and whole foods.\n \nShe believes in the healing powe
 r of natural foods and also love teaching others how to transform their he
 alth  by improving their diet and lifestyle. For more on Vero Pure Green: 
 https://www.veropuregreen.com
X-WR-RELCALID:77ae46e3337bc6a1cc79e54f983ca043
X-WR-TIMEZONE:America/New_York
BEGIN:VTIMEZONE
TZID:America/New_York
BEGIN:STANDARD
TZNAME:EST
DTSTART:20251102T020000
TZOFFSETFROM:-0400
TZOFFSETTO:-0500
RDATE:20261101T020000
END:STANDARD
BEGIN:DAYLIGHT
TZNAME:EDT
DTSTART:20250309T020000
TZOFFSETFROM:-0500
TZOFFSETTO:-0400
RDATE:20260308T020000
RDATE:20270314T020000
END:DAYLIGHT
END:VTIMEZONE
BEGIN:VEVENT
UID:6fe831c6-1e67-4592-8b32-32edbbfa5fb7
DTSTAMP:20260419T213822Z
DESCRIPTION:Our guest presenter for this event is Veronica Ramirez\, owner 
 of Vero Pure Green\, Health Coaching Services. She will be providing nutri
 tion tips and teaching us how to prepare a healthy and delicious recipe.  
 If you'd like to follow along please make sure to have the below ingredien
 ts on hand:\n**To be provided\n\nVeronica Ramirez is a long distance runne
 r\, educator and  a Certified Integrative Nutritional Health Coach. She is
  also a wife\, a busy mom of two amazing boys and lifelong fitness fan.\n
 \nVeronica is extremely  passionate about health and movement  and also ab
 out the power of raw and whole foods.\n \nShe believes in the healing powe
 r of natural foods and also love teaching others how to transform their he
 alth  by improving their diet and lifestyle. For more on Vero Pure Green: 
 https://www.veropuregreen.com
DTSTART;TZID=America/New_York:20260304T110000
DTEND;TZID=America/New_York:20260304T120000
LOCATION:https://us06web.zoom.us/meeting/register/aX_Q_6QoSWa4pnLjc6cn4A#/
SUMMARY:Food for Thought: Recipe
END:VEVENT
END:VCALENDAR
