BEGIN:VCALENDAR
VERSION:2.0
PRODID:-//www.arcnj.org//NONSGML kigkonsult.se iCalcreator 2.30.10//
CALSCALE:GREGORIAN
METHOD:PUBLISH
UID:0d1117a5-d9ea-407d-bcd4-2f080afcf41e
X-WR-CALDESC:
X-WR-RELCALID:f174d4837be90047cc043754b86dfb79
X-WR-TIMEZONE:America/New_York
BEGIN:VTIMEZONE
TZID:America/New_York
BEGIN:STANDARD
TZNAME:EST
DTSTART:20251102T020000
TZOFFSETFROM:-0400
TZOFFSETTO:-0500
RDATE:20261101T020000
END:STANDARD
BEGIN:DAYLIGHT
TZNAME:EDT
DTSTART:20250309T020000
TZOFFSETFROM:-0500
TZOFFSETTO:-0400
RDATE:20260308T020000
RDATE:20270314T020000
END:DAYLIGHT
END:VTIMEZONE
BEGIN:VEVENT
UID:d318867f-4e9b-4ddc-9d08-737122828b41
DTSTAMP:20260419T214047Z
DESCRIPTION:
DTSTART;TZID=America/New_York:20260304T120000
DTEND;TZID=America/New_York:20260304T130000
LOCATION:https://attendee.gotowebinar.com/register/9028979932799288160
SUMMARY:Empowering Athletes of All Abilities: A Conversation with Dan Minko
END:VEVENT
END:VCALENDAR
