BEGIN:VCALENDAR
VERSION:2.0
PRODID:-//www.arcnj.org//NONSGML kigkonsult.se iCalcreator 2.30.10//
CALSCALE:GREGORIAN
METHOD:PUBLISH
UID:b6e6ba25-7b1a-4633-bd26-1362e961e120
X-WR-CALDESC:Get up close to exciting exotic animals with Animal Adventures
 ! Ed has worked with exotics since his youth\, and over the years gained h
 is PhD in Zoology. Ed has even been listed as one of the world’s top 20 he
 rpetologists. Together\, Ed and Brenda formed Animal Adventures with the m
 ission to provide a home to unwanted and unable to be cared for animals\, 
 while educating the public about these animals. \n\nhttps://www.animaladve
 ntures.net/
X-WR-RELCALID:61563c61513a565a60df41c52bf82e3d
X-WR-TIMEZONE:America/New_York
BEGIN:VTIMEZONE
TZID:America/New_York
BEGIN:STANDARD
TZNAME:EST
DTSTART:20251102T020000
TZOFFSETFROM:-0400
TZOFFSETTO:-0500
RDATE:20261101T020000
END:STANDARD
BEGIN:DAYLIGHT
TZNAME:EDT
DTSTART:20250309T020000
TZOFFSETFROM:-0500
TZOFFSETTO:-0400
RDATE:20260308T020000
RDATE:20270314T020000
END:DAYLIGHT
END:VTIMEZONE
BEGIN:VEVENT
UID:a1b0f020-85fd-4583-9b1f-6891c5e67476
DTSTAMP:20260419T231348Z
DESCRIPTION:Get up close to exciting exotic animals with Animal Adventures!
  Ed has worked with exotics since his youth\, and over the years gained hi
 s PhD in Zoology. Ed has even been listed as one of the world’s top 20 her
 petologists. Together\, Ed and Brenda formed Animal Adventures with the mi
 ssion to provide a home to unwanted and unable to be cared for animals\, w
 hile educating the public about these animals. \n\nhttps://www.animaladven
 tures.net/
DTSTART;TZID=America/New_York:20260225T110000
DTEND;TZID=America/New_York:20260225T120000
LOCATION:https://us06web.zoom.us/meeting/register/b-eNDcotSgmNTcnqfGCEHg#/r
 egistration
SUMMARY:Animal Adventures
END:VEVENT
END:VCALENDAR
