BEGIN:VCALENDAR
VERSION:2.0
PRODID:-//www.arcnj.org//NONSGML kigkonsult.se iCalcreator 2.30.10//
CALSCALE:GREGORIAN
METHOD:PUBLISH
UID:7ef50fc8-f730-4695-a126-2668327d6110
X-WR-CALDESC:**This is a recording of a previous webinar. Experience it for
  the first time or rewatch it to gain a better understanding of the topic.
  The question box will be open and we will respond to any questions 24 hou
 rs after the event.\n\nThis webinar features guest presenters Dr. Anne Rya
 n and Sara Brown from STRIVE WorldWIDE. The webinar is centered on time ma
 nagement. It will discuss how to pinpoint causes of procrastination and ti
 me wasters\, how to build your priorities and goals\, and how to change yo
 ur behaviors to meet those goals. This webinar will be highly interactive 
 so we welcome regular use of the questions box to respond to the presenter
 s.\n\nFor more information on STRIVE WorldWIDE: https://www.pslstrive.org/
 striveworldwide
X-WR-RELCALID:5b2eb0866985543d65bf567fb3f9c35e
X-WR-TIMEZONE:America/New_York
BEGIN:VTIMEZONE
TZID:America/New_York
BEGIN:STANDARD
TZNAME:EST
DTSTART:20251102T020000
TZOFFSETFROM:-0400
TZOFFSETTO:-0500
RDATE:20261101T020000
END:STANDARD
BEGIN:DAYLIGHT
TZNAME:EDT
DTSTART:20250309T020000
TZOFFSETFROM:-0500
TZOFFSETTO:-0400
RDATE:20260308T020000
RDATE:20270314T020000
END:DAYLIGHT
END:VTIMEZONE
BEGIN:VEVENT
UID:c96b84e2-69de-45d4-af88-ff95663e974a
DTSTAMP:20260419T234121Z
DESCRIPTION:**This is a recording of a previous webinar. Experience it for 
 the first time or rewatch it to gain a better understanding of the topic. 
 The question box will be open and we will respond to any questions 24 hour
 s after the event.\n\nThis webinar features guest presenters Dr. Anne Ryan
  and Sara Brown from STRIVE WorldWIDE. The webinar is centered on time man
 agement. It will discuss how to pinpoint causes of procrastination and tim
 e wasters\, how to build your priorities and goals\, and how to change you
 r behaviors to meet those goals. This webinar will be highly interactive s
 o we welcome regular use of the questions box to respond to the presenters
 .\n\nFor more information on STRIVE WorldWIDE: https://www.pslstrive.org/s
 triveworldwide
DTSTART;TZID=America/New_York:20260224T140000
DTEND;TZID=America/New_York:20260224T150000
LOCATION:https://us06web.zoom.us/webinar/register/WN_hovT38SfRmirGhw4c_rEJA
 #/registration
SUMMARY:REPLAY: Managing Minutes for Productive People
END:VEVENT
END:VCALENDAR
