BEGIN:VCALENDAR
VERSION:2.0
PRODID:-//www.arcnj.org//NONSGML kigkonsult.se iCalcreator 2.30.10//
CALSCALE:GREGORIAN
METHOD:PUBLISH
UID:7d15ccdd-4f66-41c8-9ef9-158e5471f438
X-WR-CALDESC:
X-WR-RELCALID:0549bf8c39c0053540c87b4c98378e18
X-WR-TIMEZONE:America/New_York
BEGIN:VTIMEZONE
TZID:America/New_York
BEGIN:STANDARD
TZNAME:EST
DTSTART:20251102T020000
TZOFFSETFROM:-0400
TZOFFSETTO:-0500
RDATE:20261101T020000
END:STANDARD
BEGIN:DAYLIGHT
TZNAME:EDT
DTSTART:20250309T020000
TZOFFSETFROM:-0500
TZOFFSETTO:-0400
RDATE:20260308T020000
RDATE:20270314T020000
END:DAYLIGHT
END:VTIMEZONE
BEGIN:VEVENT
UID:922edfe4-1624-48c0-8335-c60849914017
DTSTAMP:20260419T233912Z
DESCRIPTION:
DTSTART;TZID=America/New_York:20260219T060000
DTEND;TZID=America/New_York:20260219T060001
LOCATION:
SUMMARY:The Arc Union Sensory Room Ribbon Cutting
END:VEVENT
END:VCALENDAR
