BEGIN:VCALENDAR
VERSION:2.0
PRODID:-//www.arcnj.org//NONSGML kigkonsult.se iCalcreator 2.30.10//
CALSCALE:GREGORIAN
METHOD:PUBLISH
UID:4dcf6a82-bfdf-4be5-9443-022ff40bf1e1
X-WR-CALDESC:
X-WR-RELCALID:7f8271e3eeb24355256610e4b34ea8b4
X-WR-TIMEZONE:America/New_York
BEGIN:VTIMEZONE
TZID:America/New_York
BEGIN:STANDARD
TZNAME:EST
DTSTART:20251102T020000
TZOFFSETFROM:-0400
TZOFFSETTO:-0500
RDATE:20261101T020000
END:STANDARD
BEGIN:DAYLIGHT
TZNAME:EDT
DTSTART:20250309T020000
TZOFFSETFROM:-0500
TZOFFSETTO:-0400
RDATE:20260308T020000
RDATE:20270314T020000
END:DAYLIGHT
END:VTIMEZONE
BEGIN:VEVENT
UID:f4c6f959-4552-401c-ab86-1a8188933f19
DTSTAMP:20260419T232459Z
DESCRIPTION:
DTSTART;TZID=America/New_York:20260218T190000
DTEND;TZID=America/New_York:20260218T203000
LOCATION:https://us06web.zoom.us/webinar/register/WN_UrbUytr0TzOinYMTgkf7dQ
 #/registration
SUMMARY:Meet Us in the Middle Webinar: SOS: Support Our Siblings
END:VEVENT
END:VCALENDAR
