BEGIN:VCALENDAR
VERSION:2.0
PRODID:-//www.arcnj.org//NONSGML kigkonsult.se iCalcreator 2.30.10//
CALSCALE:GREGORIAN
METHOD:PUBLISH
UID:742cb5a7-06ad-4dbe-972d-919791cf39e7
X-WR-CALDESC:**This is a recording of a previous webinar. Experience it for
  the first time or rewatch it to gain a better understanding of the topic.
  The question box will be open and we will respond to any questions 24 hou
 rs after the event.\n\nPresented by Erin Smithers\, this webinar is about 
 building healthy and strong bonds with other people. Erin will discuss the
  five 'love languages': Words of Affirmation\, Acts of Service\, Receiving
  Gifts\, Quality Time\, and Physical Touch. Participants will learn what c
 ategories they value most and how to show affection towards others dependi
 ng on their values.
X-WR-RELCALID:79b6dddccd34c3a31fd0935202f27ea8
X-WR-TIMEZONE:America/New_York
BEGIN:VTIMEZONE
TZID:America/New_York
BEGIN:STANDARD
TZNAME:EST
DTSTART:20251102T020000
TZOFFSETFROM:-0400
TZOFFSETTO:-0500
RDATE:20261101T020000
END:STANDARD
BEGIN:DAYLIGHT
TZNAME:EDT
DTSTART:20250309T020000
TZOFFSETFROM:-0500
TZOFFSETTO:-0400
RDATE:20260308T020000
RDATE:20270314T020000
END:DAYLIGHT
END:VTIMEZONE
BEGIN:VEVENT
UID:6e2e5d06-77ec-454d-9c6d-61fbee0ab86f
DTSTAMP:20260419T233441Z
DESCRIPTION:**This is a recording of a previous webinar. Experience it for 
 the first time or rewatch it to gain a better understanding of the topic. 
 The question box will be open and we will respond to any questions 24 hour
 s after the event.\n\nPresented by Erin Smithers\, this webinar is about b
 uilding healthy and strong bonds with other people. Erin will discuss the 
 five 'love languages': Words of Affirmation\, Acts of Service\, Receiving 
 Gifts\, Quality Time\, and Physical Touch. Participants will learn what ca
 tegories they value most and how to show affection towards others dependin
 g on their values.
DTSTART;TZID=America/New_York:20260217T140000
DTEND;TZID=America/New_York:20260217T150000
LOCATION:https://us06web.zoom.us/webinar/register/WN_GIQX6YNWSMODOWH01GDYhw
 #/registration
SUMMARY:REPLAY: Love Languages: Healthy Relationships & Communications
END:VEVENT
END:VCALENDAR
