BEGIN:VCALENDAR
VERSION:2.0
PRODID:-//www.arcnj.org//NONSGML kigkonsult.se iCalcreator 2.30.10//
CALSCALE:GREGORIAN
METHOD:PUBLISH
UID:acd685a6-f123-4095-a55f-cd4803f69e5c
X-WR-CALDESC:
X-WR-RELCALID:fa901ffa2fae08b07d8fe24591720307
X-WR-TIMEZONE:America/New_York
BEGIN:VTIMEZONE
TZID:America/New_York
BEGIN:STANDARD
TZNAME:EST
DTSTART:20251102T020000
TZOFFSETFROM:-0400
TZOFFSETTO:-0500
RDATE:20261101T020000
END:STANDARD
BEGIN:DAYLIGHT
TZNAME:EDT
DTSTART:20250309T020000
TZOFFSETFROM:-0500
TZOFFSETTO:-0400
RDATE:20260308T020000
RDATE:20270314T020000
END:DAYLIGHT
END:VTIMEZONE
BEGIN:VEVENT
UID:4a0deab5-9a59-44f2-af95-2be40ffd0be0
DTSTAMP:20260419T231159Z
DESCRIPTION:
DTSTART;TZID=America/New_York:20260212T120000
DTEND;TZID=America/New_York:20260212T130000
LOCATION:https://attendee.gotowebinar.com/register/7122783011076649051
SUMMARY:Why Game U?
END:VEVENT
END:VCALENDAR
