BEGIN:VCALENDAR
VERSION:2.0
PRODID:-//www.arcnj.org//NONSGML kigkonsult.se iCalcreator 2.30.10//
CALSCALE:GREGORIAN
METHOD:PUBLISH
UID:044f27e5-6289-4b5f-81c2-175d7d144133
X-WR-CALDESC:Meet participants\, parents\, employers\, and Project HIRE pro
 fessionals to learn about the supported employment process and how to make
  it work for YOU!
X-WR-RELCALID:798c18d67a4b0c76f8e58550b6e7247f
X-WR-TIMEZONE:America/New_York
BEGIN:VTIMEZONE
TZID:America/New_York
BEGIN:STANDARD
TZNAME:EST
DTSTART:20251102T020000
TZOFFSETFROM:-0400
TZOFFSETTO:-0500
RDATE:20261101T020000
END:STANDARD
BEGIN:DAYLIGHT
TZNAME:EDT
DTSTART:20250309T020000
TZOFFSETFROM:-0500
TZOFFSETTO:-0400
RDATE:20260308T020000
RDATE:20270314T020000
END:DAYLIGHT
END:VTIMEZONE
BEGIN:VEVENT
UID:e576ae66-4b8e-4aba-bf58-2b7126241201
DTSTAMP:20260419T232858Z
DESCRIPTION:Meet participants\, parents\, employers\, and Project HIRE prof
 essionals to learn about the supported employment process and how to make 
 it work for YOU!
DTSTART;TZID=America/New_York:20260212T130000
DTEND;TZID=America/New_York:20260212T143000
LOCATION:https://us06web.zoom.us/webinar/register/WN_L0SsRYrqTOW30QLxAZVCjQ
SUMMARY:(Virtual) Employment Mentorship Panel with Project HIRE and PFAL
END:VEVENT
END:VCALENDAR
