BEGIN:VCALENDAR
VERSION:2.0
PRODID:-//www.arcnj.org//NONSGML kigkonsult.se iCalcreator 2.30.10//
CALSCALE:GREGORIAN
METHOD:PUBLISH
UID:92b69cb8-33b6-419f-9ac7-62fbef4c323d
X-WR-CALDESC:**This is a recording of a previous webinar. Experience it for
  the first time or rewatch it to gain a better understanding of the topic.
  The question box will be open and we will respond to any questions 24 hou
 rs after the event.\n\nPresented by the NJSAP Team\, this webinar is about
  how to keep your New Year's Resolutions! We will discuss some common type
 s of resolutions that you can make to work towards a healthier lifestyle. 
 We'll also talk about some SMART goals and technology that can assist you 
 in achieving your goals.
X-WR-RELCALID:a888cba7223e8a29672c523c1fd35650
X-WR-TIMEZONE:America/New_York
BEGIN:VTIMEZONE
TZID:America/New_York
BEGIN:STANDARD
TZNAME:EST
DTSTART:20251102T020000
TZOFFSETFROM:-0400
TZOFFSETTO:-0500
RDATE:20261101T020000
END:STANDARD
BEGIN:DAYLIGHT
TZNAME:EDT
DTSTART:20250309T020000
TZOFFSETFROM:-0500
TZOFFSETTO:-0400
RDATE:20260308T020000
RDATE:20270314T020000
END:DAYLIGHT
END:VTIMEZONE
BEGIN:VEVENT
UID:351febeb-f0b3-48b0-a2f8-06258b3568dd
DTSTAMP:20260419T232858Z
DESCRIPTION:**This is a recording of a previous webinar. Experience it for 
 the first time or rewatch it to gain a better understanding of the topic. 
 The question box will be open and we will respond to any questions 24 hour
 s after the event.\n\nPresented by the NJSAP Team\, this webinar is about 
 how to keep your New Year's Resolutions! We will discuss some common types
  of resolutions that you can make to work towards a healthier lifestyle. W
 e'll also talk about some SMART goals and technology that can assist you i
 n achieving your goals.
DTSTART;TZID=America/New_York:20260210T140000
DTEND;TZID=America/New_York:20260210T150000
LOCATION:https://us06web.zoom.us/webinar/register/WN_9nI22xoPRBiavGQ2MxtQbA
 #/registration
SUMMARY:REPLAY: Resolution Solutions & Healthier Habits
END:VEVENT
END:VCALENDAR
