BEGIN:VCALENDAR
VERSION:2.0
PRODID:-//www.arcnj.org//NONSGML kigkonsult.se iCalcreator 2.30.10//
CALSCALE:GREGORIAN
METHOD:PUBLISH
UID:c81dda09-f3ae-4a43-a3af-948b9d25259b
X-WR-CALDESC:
X-WR-RELCALID:d538d04bfd799db4497ff061d50e0372
X-WR-TIMEZONE:America/New_York
BEGIN:VTIMEZONE
TZID:America/New_York
BEGIN:STANDARD
TZNAME:EST
DTSTART:20251102T020000
TZOFFSETFROM:-0400
TZOFFSETTO:-0500
RDATE:20261101T020000
END:STANDARD
BEGIN:DAYLIGHT
TZNAME:EDT
DTSTART:20250309T020000
TZOFFSETFROM:-0500
TZOFFSETTO:-0400
RDATE:20260308T020000
RDATE:20270314T020000
END:DAYLIGHT
END:VTIMEZONE
BEGIN:VEVENT
UID:f4b00858-bc6b-4777-b086-3f3c89a2a53f
DTSTAMP:20260419T231159Z
DESCRIPTION:
DTSTART;TZID=America/New_York:20260206T120000
DTEND;TZID=America/New_York:20260206T133000
LOCATION:https://attendee.gotowebinar.com/register/4173070391215717726
SUMMARY:Creative Options Regina
END:VEVENT
END:VCALENDAR
