BEGIN:VCALENDAR
VERSION:2.0
PRODID:-//www.arcnj.org//NONSGML kigkonsult.se iCalcreator 2.30.10//
CALSCALE:GREGORIAN
METHOD:PUBLISH
UID:74f47ca6-0206-4909-bd5d-29070ff8e33c
X-WR-CALDESC:
X-WR-RELCALID:df37e0a8d15aff0c7d4bc7fbc9c8b731
X-WR-TIMEZONE:America/New_York
BEGIN:VTIMEZONE
TZID:America/New_York
BEGIN:STANDARD
TZNAME:EST
DTSTART:20251102T020000
TZOFFSETFROM:-0400
TZOFFSETTO:-0500
RDATE:20261101T020000
END:STANDARD
BEGIN:DAYLIGHT
TZNAME:EDT
DTSTART:20250309T020000
TZOFFSETFROM:-0500
TZOFFSETTO:-0400
RDATE:20260308T020000
RDATE:20270314T020000
END:DAYLIGHT
END:VTIMEZONE
BEGIN:VEVENT
UID:93906240-44e1-477f-aac7-83563240d6d4
DTSTAMP:20260419T233831Z
DESCRIPTION:
DTSTART;TZID=America/New_York:20260205T060000
DTEND;TZID=America/New_York:20260205T200000
LOCATION:In Person Location TBD
SUMMARY:Board of Directors Meeting
END:VEVENT
END:VCALENDAR
