BEGIN:VCALENDAR
VERSION:2.0
PRODID:-//www.arcnj.org//NONSGML kigkonsult.se iCalcreator 2.30.10//
CALSCALE:GREGORIAN
METHOD:PUBLISH
UID:2e3df3f5-23c7-45c5-aef0-42441593832f
X-WR-CALDESC:Learn why Jenkinson’s Aquarium’s involvement in a Species Surv
 ival Plan is designed to ensure a healthy population for the future. You'l
 l also learn how the conservation efforts of aquariums and zoos benefit en
 dangered animal species. Meet one of their African penguins while learning
  about threats to their survival.  \n\nLive viewers will be able to share 
 comments\, ask questions\, and participate in real time. Please share your
  video and follow along to make this a true interactive experience!\n\nThi
 s event is intended for adults with intellectual and developmental disabil
 ities.  The New Jersey Self-Advocacy Project reserves the right to take an
 d use photographs\, video\, and electronic images of attendees at its agen
 cy-sponsored events for promotional and educational purposes. By registeri
 ng\, you consent to having your photo taken for promotional purposes.
X-WR-RELCALID:35253e674d88837b9ddc6a86cd7f43d6
X-WR-TIMEZONE:America/New_York
BEGIN:VTIMEZONE
TZID:America/New_York
BEGIN:STANDARD
TZNAME:EST
DTSTART:20251102T020000
TZOFFSETFROM:-0400
TZOFFSETTO:-0500
RDATE:20261101T020000
END:STANDARD
BEGIN:DAYLIGHT
TZNAME:EDT
DTSTART:20250309T020000
TZOFFSETFROM:-0500
TZOFFSETTO:-0400
RDATE:20260308T020000
RDATE:20270314T020000
END:DAYLIGHT
END:VTIMEZONE
BEGIN:VEVENT
UID:545e37b7-de96-4245-90ed-3dbe0bbd0a07
DTSTAMP:20260419T234127Z
DESCRIPTION:Learn why Jenkinson’s Aquarium’s involvement in a Species Survi
 val Plan is designed to ensure a healthy population for the future. You'll
  also learn how the conservation efforts of aquariums and zoos benefit end
 angered animal species. Meet one of their African penguins while learning 
 about threats to their survival.  \n\nLive viewers will be able to share c
 omments\, ask questions\, and participate in real time. Please share your 
 video and follow along to make this a true interactive experience!\n\nThis
  event is intended for adults with intellectual and developmental disabili
 ties.  The New Jersey Self-Advocacy Project reserves the right to take and
  use photographs\, video\, and electronic images of attendees at its agenc
 y-sponsored events for promotional and educational purposes. By registerin
 g\, you consent to having your photo taken for promotional purposes.
DTSTART;TZID=America/New_York:20260204T110000
DTEND;TZID=America/New_York:20260204T120000
LOCATION:https://us06web.zoom.us/meeting/register/RdooZ45YR3C6jW-NqpTiuA#/r
 egistration
SUMMARY:Jenkison's Aquarium - Species Survival
END:VEVENT
END:VCALENDAR
