BEGIN:VCALENDAR
VERSION:2.0
PRODID:-//www.arcnj.org//NONSGML kigkonsult.se iCalcreator 2.30.10//
CALSCALE:GREGORIAN
METHOD:PUBLISH
UID:a97c7518-f79c-4d89-819c-7e1b43fff872
X-WR-CALDESC:Join us for a webinar about Supportive Decision Making with Cr
 aig Ismaili of DRNJ.\n\nCraig Ismaili recently rejoined Disability Rights 
 New Jersey as a Supervising Attorney\, where he oversees a diverse range o
 f federal\, state\, and administrative litigation. He previously worked at
  the organization for three years as a Staff Attorney\, advocating for cli
 ents in Medicaid appeals and developing federal litigation strategies to c
 hallenge systemic barriers under the ADA.  \n\nHis prior experience includ
 es working as an Associate Attorney at Health Law Alliance\, as an associa
 te attorney at Giordano\, Halleran & Ciesla in the firm's Corporate\, IP\,
  and Healthcare\n groups. He handled both litigation and transactional mat
 ters\, including M&A transactions. Craig began his legal career after law 
 school as a Litigation Fellow with AARP Foundation Litigation\, focusing o
 n systemic reform cases affecting older adults.  \nCraig earned his Juris 
 Doctor from Washington University School of Law\, where he was a Staff Edi
 tor for the\nJurisprudence Review. During law school\, he gained extensive
  public service experience through externships with the WashU Law Appellat
 e Clinic\, the National Health Law Program\, and the Roderick & Solange Ma
 cArthur Justice Center. He is admitted to the\n New Jersey Bar. Outside of
  his legal practice\, Craig enjoys going to concerts with his wife Katie\,
  playing with his rescue dog Jackie\, and following New Jersey Devils hock
 ey.
X-WR-RELCALID:08f00dc18b06e41b27ff08aac93b3dff
X-WR-TIMEZONE:America/New_York
BEGIN:VTIMEZONE
TZID:America/New_York
BEGIN:STANDARD
TZNAME:EST
DTSTART:20251102T020000
TZOFFSETFROM:-0400
TZOFFSETTO:-0500
RDATE:20261101T020000
END:STANDARD
BEGIN:DAYLIGHT
TZNAME:EDT
DTSTART:20250309T020000
TZOFFSETFROM:-0500
TZOFFSETTO:-0400
RDATE:20260308T020000
RDATE:20270314T020000
END:DAYLIGHT
END:VTIMEZONE
BEGIN:VEVENT
UID:ff081bd9-cd7d-4eea-86de-66ca3b2c1e22
DTSTAMP:20260419T231419Z
DESCRIPTION:Join us for a webinar about Supportive Decision Making with Cra
 ig Ismaili of DRNJ.\n\nCraig Ismaili recently rejoined Disability Rights N
 ew Jersey as a Supervising Attorney\, where he oversees a diverse range of
  federal\, state\, and administrative litigation. He previously worked at 
 the organization for three years as a Staff Attorney\, advocating for clie
 nts in Medicaid appeals and developing federal litigation strategies to ch
 allenge systemic barriers under the ADA.  \n\nHis prior experience include
 s working as an Associate Attorney at Health Law Alliance\, as an associat
 e attorney at Giordano\, Halleran & Ciesla in the firm's Corporate\, IP\, 
 and Healthcare\n groups. He handled both litigation and transactional matt
 ers\, including M&A transactions. Craig began his legal career after law s
 chool as a Litigation Fellow with AARP Foundation Litigation\, focusing on
  systemic reform cases affecting older adults.  \nCraig earned his Juris D
 octor from Washington University School of Law\, where he was a Staff Edit
 or for the\nJurisprudence Review. During law school\, he gained extensive 
 public service experience through externships with the WashU Law Appellate
  Clinic\, the National Health Law Program\, and the Roderick & Solange Mac
 Arthur Justice Center. He is admitted to the\n New Jersey Bar. Outside of 
 his legal practice\, Craig enjoys going to concerts with his wife Katie\, 
 playing with his rescue dog Jackie\, and following New Jersey Devils hocke
 y.
DTSTART;TZID=America/New_York:20260203T140000
DTEND;TZID=America/New_York:20260203T150000
LOCATION:https://us06web.zoom.us/webinar/register/WN_BqeIe3GwQ-KK0NMk1KvAkA
 #/registration
SUMMARY:Alternatives to Guardianship – Highlighting Supportive Decision Mak
 ing (SDM)
END:VEVENT
END:VCALENDAR
