BEGIN:VCALENDAR
VERSION:2.0
PRODID:-//www.arcnj.org//NONSGML kigkonsult.se iCalcreator 2.30.10//
CALSCALE:GREGORIAN
METHOD:PUBLISH
UID:2d28b600-7af3-4f39-893a-64adced6b4a6
X-WR-CALDESC:Join us for a virtual tour of the Center for Adult Transition 
 at Passaic County Community College!
X-WR-RELCALID:319ec5bfadd8fdad870f4ca3549bbe67
X-WR-TIMEZONE:America/New_York
BEGIN:VTIMEZONE
TZID:America/New_York
BEGIN:STANDARD
TZNAME:EST
DTSTART:20251102T020000
TZOFFSETFROM:-0400
TZOFFSETTO:-0500
RDATE:20261101T020000
END:STANDARD
BEGIN:DAYLIGHT
TZNAME:EDT
DTSTART:20250309T020000
TZOFFSETFROM:-0500
TZOFFSETTO:-0400
RDATE:20260308T020000
RDATE:20270314T020000
END:DAYLIGHT
END:VTIMEZONE
BEGIN:VEVENT
UID:97822c50-b63b-466d-bfb1-d6a2fcb6e98c
DTSTAMP:20260420T011621Z
DESCRIPTION:Join us for a virtual tour of the Center for Adult Transition a
 t Passaic County Community College!
DTSTART;TZID=America/New_York:20260129T183000
DTEND;TZID=America/New_York:20260129T193000
LOCATION:https://us06web.zoom.us/meeting/register/GEdxvtyOSRq6IBLCICaFCQ
SUMMARY:Virtual Tour with Us - Center for Adult Transition: Passaic County 
 Community College
END:VEVENT
END:VCALENDAR
