BEGIN:VCALENDAR
VERSION:2.0
PRODID:-//www.arcnj.org//NONSGML kigkonsult.se iCalcreator 2.30.10//
CALSCALE:GREGORIAN
METHOD:PUBLISH
UID:7c6aa342-9686-4db4-9e6c-386ff55643a1
X-WR-CALDESC:Join us for an acting class with instructor Lauren Moran! No e
 xperience required.\n\nLive viewers will be able to share comments\, ask q
 uestions\, and participate in real time. Please share your video and follo
 w along to make this a true interactive experience!
X-WR-RELCALID:4b80d82d9d169e5a8399eb1d99ffdadb
X-WR-TIMEZONE:America/New_York
BEGIN:VTIMEZONE
TZID:America/New_York
BEGIN:STANDARD
TZNAME:EST
DTSTART:20251102T020000
TZOFFSETFROM:-0400
TZOFFSETTO:-0500
RDATE:20261101T020000
END:STANDARD
BEGIN:DAYLIGHT
TZNAME:EDT
DTSTART:20250309T020000
TZOFFSETFROM:-0500
TZOFFSETTO:-0400
RDATE:20260308T020000
RDATE:20270314T020000
END:DAYLIGHT
END:VTIMEZONE
BEGIN:VEVENT
UID:db7cdb85-9d64-40c2-adf8-1ae7666da7ac
DTSTAMP:20260420T004807Z
DESCRIPTION:Join us for an acting class with instructor Lauren Moran! No ex
 perience required.\n\nLive viewers will be able to share comments\, ask qu
 estions\, and participate in real time. Please share your video and follow
  along to make this a true interactive experience!
DTSTART;TZID=America/New_York:20260128T110000
DTEND;TZID=America/New_York:20260128T120000
LOCATION:https://us06web.zoom.us/meeting/register/N9tItD69QLWbOzB72Lzn1w#/r
 egistration
SUMMARY:Acting Class
END:VEVENT
END:VCALENDAR
