BEGIN:VCALENDAR
VERSION:2.0
PRODID:-//www.arcnj.org//NONSGML kigkonsult.se iCalcreator 2.30.10//
CALSCALE:GREGORIAN
METHOD:PUBLISH
UID:d5cc58d7-4efa-4125-ba25-9947c98ae202
X-WR-CALDESC:This presentation will explain what families need to know abou
 t purchasing necessary items for their son/daughter with I/DD with money f
 rom the SNT. It will explore which types of expenditures are allowable\, a
 nd which are not\, in accordance with NJ Medicaid rules and regulations. T
 he presentation will also explain the importance of keeping receipts for a
 ll expenditures from the SNT and what to do when the individual with I/DD 
 needs an expensive item costing $5\,000 or more.
X-WR-RELCALID:a25b5f3b9f4826c37cbf6c0359a0f015
X-WR-TIMEZONE:America/New_York
BEGIN:VTIMEZONE
TZID:America/New_York
BEGIN:STANDARD
TZNAME:EST
DTSTART:20251102T020000
TZOFFSETFROM:-0400
TZOFFSETTO:-0500
RDATE:20261101T020000
END:STANDARD
BEGIN:DAYLIGHT
TZNAME:EDT
DTSTART:20250309T020000
TZOFFSETFROM:-0500
TZOFFSETTO:-0400
RDATE:20260308T020000
RDATE:20270314T020000
END:DAYLIGHT
END:VTIMEZONE
BEGIN:VEVENT
UID:dd92adcb-1dcc-4af3-83db-8d5ae32e78f7
DTSTAMP:20260420T005617Z
DESCRIPTION:This presentation will explain what families need to know about
  purchasing necessary items for their son/daughter with I/DD with money fr
 om the SNT. It will explore which types of expenditures are allowable\, an
 d which are not\, in accordance with NJ Medicaid rules and regulations. Th
 e presentation will also explain the importance of keeping receipts for al
 l expenditures from the SNT and what to do when the individual with I/DD n
 eeds an expensive item costing $5\,000 or more.
DTSTART;TZID=America/New_York:20260127T183000
DTEND;TZID=America/New_York:20260127T200000
LOCATION:https://attendee.gotowebinar.com/register/7932615106844176475
SUMMARY:What Every Family Needs to Know About Special Needs Trusts\, Part 2
END:VEVENT
END:VCALENDAR
