BEGIN:VCALENDAR
VERSION:2.0
PRODID:-//www.arcnj.org//NONSGML kigkonsult.se iCalcreator 2.30.10//
CALSCALE:GREGORIAN
METHOD:PUBLISH
UID:882282bd-a72e-46ce-84a5-60d4207fbfb7
X-WR-CALDESC:
X-WR-RELCALID:463f2117e6ed763f4dcfcce9fbd6e376
X-WR-TIMEZONE:America/New_York
BEGIN:VTIMEZONE
TZID:America/New_York
BEGIN:STANDARD
TZNAME:EST
DTSTART:20251102T020000
TZOFFSETFROM:-0400
TZOFFSETTO:-0500
RDATE:20261101T020000
END:STANDARD
BEGIN:DAYLIGHT
TZNAME:EDT
DTSTART:20250309T020000
TZOFFSETFROM:-0500
TZOFFSETTO:-0400
RDATE:20260308T020000
RDATE:20270314T020000
END:DAYLIGHT
END:VTIMEZONE
BEGIN:VEVENT
UID:5cec330a-aab2-4eef-9ea3-864f7940f16b
DTSTAMP:20260420T010355Z
DESCRIPTION:
DTSTART;TZID=America/New_York:20260121T190000
DTEND;TZID=America/New_York:20260121T200000
LOCATION:https://us06web.zoom.us/webinar/register/WN_I5u1oqshRmy75fMEaEuXRQ
SUMMARY:Pro Se Guardianship and alternatives with SCARC Guardianship Servic
 es\, Inc.
END:VEVENT
END:VCALENDAR
