BEGIN:VCALENDAR
VERSION:2.0
PRODID:-//www.arcnj.org//NONSGML kigkonsult.se iCalcreator 2.30.10//
CALSCALE:GREGORIAN
METHOD:PUBLISH
UID:9cbde919-377c-4627-8519-72b8e367398c
X-WR-CALDESC:
X-WR-RELCALID:34f48a526bcbbd04588234e59de61d8a
X-WR-TIMEZONE:America/New_York
BEGIN:VTIMEZONE
TZID:America/New_York
BEGIN:STANDARD
TZNAME:EST
DTSTART:20251102T020000
TZOFFSETFROM:-0400
TZOFFSETTO:-0500
RDATE:20261101T020000
END:STANDARD
BEGIN:DAYLIGHT
TZNAME:EDT
DTSTART:20250309T020000
TZOFFSETFROM:-0500
TZOFFSETTO:-0400
RDATE:20260308T020000
RDATE:20270314T020000
END:DAYLIGHT
END:VTIMEZONE
BEGIN:VEVENT
UID:cc5dbda6-5371-4015-8704-e77427db4659
DTSTAMP:20260420T005525Z
DESCRIPTION:
DTSTART;TZID=America/New_York:20260121T120000
DTEND;TZID=America/New_York:20260121T133000
LOCATION:https://attendee.gotowebinar.com/register/1300897528862007639
SUMMARY:Lost in Transition: Understanding ‘Failure to Thrive’ in Teens and 
 Young Adults with IDD
END:VEVENT
END:VCALENDAR
