BEGIN:VCALENDAR
VERSION:2.0
PRODID:-//www.arcnj.org//NONSGML kigkonsult.se iCalcreator 2.30.10//
CALSCALE:GREGORIAN
METHOD:PUBLISH
UID:f841ac20-195d-4c5c-a09d-a1ae3eb6af32
X-WR-CALDESC:The American Art Therapy Association defines Art therapy as an
  integrative mental health and human services profession that enriches the
  lives of individuals\, families\, and communities through active art-maki
 ng\, creative process\, applied psychological theory\, and human experienc
 e within a psychotherapeutic relationship.\n\nMaterials needed: White pape
 r\, drawing tools (such as markers\, colored pencils\, pastels\, paint etc
 )\nWhatever you have on hand should work!\n\nKim Traina-Nolan\, MA\, LAC\,
  LCAT\, ATR-BC\, ATCS is an art psychotherapist with a private practice an
 d specialty in serving Millennial and Gen Z population in Boonton\, N.J. S
 he is an adjunct professor for the clinical mental health counseling degre
 e program with specialization in Art Therapy at Caldwell University. She i
 s a graduate of New York University and received a Masters degree in Art T
 herapy. She also holds a Masters in Mental Health Counseling from Boston G
 raduate School of Psychoanalysis. She is currently an advanced candidate o
 f Modern Psychoanalysis at ACAP in Livingston\, NJ.
X-WR-RELCALID:7cadb7ccad424c20861ab1306904fa82
X-WR-TIMEZONE:America/New_York
BEGIN:VTIMEZONE
TZID:America/New_York
BEGIN:STANDARD
TZNAME:EST
DTSTART:20251102T020000
TZOFFSETFROM:-0400
TZOFFSETTO:-0500
RDATE:20261101T020000
END:STANDARD
BEGIN:DAYLIGHT
TZNAME:EDT
DTSTART:20250309T020000
TZOFFSETFROM:-0500
TZOFFSETTO:-0400
RDATE:20260308T020000
RDATE:20270314T020000
END:DAYLIGHT
END:VTIMEZONE
BEGIN:VEVENT
UID:299b8bcb-cfe8-4e04-a16b-68e06cd3f3a1
DTSTAMP:20260420T004807Z
DESCRIPTION:The American Art Therapy Association defines Art therapy as an 
 integrative mental health and human services profession that enriches the 
 lives of individuals\, families\, and communities through active art-makin
 g\, creative process\, applied psychological theory\, and human experience
  within a psychotherapeutic relationship.\n\nMaterials needed: White paper
 \, drawing tools (such as markers\, colored pencils\, pastels\, paint etc)
 \nWhatever you have on hand should work!\n\nKim Traina-Nolan\, MA\, LAC\, 
 LCAT\, ATR-BC\, ATCS is an art psychotherapist with a private practice and
  specialty in serving Millennial and Gen Z population in Boonton\, N.J. Sh
 e is an adjunct professor for the clinical mental health counseling degree
  program with specialization in Art Therapy at Caldwell University. She is
  a graduate of New York University and received a Masters degree in Art Th
 erapy. She also holds a Masters in Mental Health Counseling from Boston Gr
 aduate School of Psychoanalysis. She is currently an advanced candidate of
  Modern Psychoanalysis at ACAP in Livingston\, NJ.
DTSTART;TZID=America/New_York:20260121T110000
DTEND;TZID=America/New_York:20260121T120000
LOCATION:https://us06web.zoom.us/meeting/register/Mii49it9QOm7siuUM5Mb7g#/r
 egistration
SUMMARY:Art Therapy Session
END:VEVENT
END:VCALENDAR
