BEGIN:VCALENDAR
VERSION:2.0
PRODID:-//www.arcnj.org//NONSGML kigkonsult.se iCalcreator 2.30.10//
CALSCALE:GREGORIAN
METHOD:PUBLISH
UID:944a6896-f310-4dfd-a163-ee32318cd9ae
X-WR-CALDESC:Join us to learn everything you want to know about pro se guar
 dianship (pursuing guardianship without an attorney) and its alternatives 
 from the experts at SCARC. Come with questions\, leave with all the answer
 s!
X-WR-RELCALID:2d76f1705e8ccc1ab450f88a97e4ae39
X-WR-TIMEZONE:America/New_York
BEGIN:VTIMEZONE
TZID:America/New_York
BEGIN:STANDARD
TZNAME:EST
DTSTART:20251102T020000
TZOFFSETFROM:-0400
TZOFFSETTO:-0500
RDATE:20261101T020000
END:STANDARD
BEGIN:DAYLIGHT
TZNAME:EDT
DTSTART:20250309T020000
TZOFFSETFROM:-0500
TZOFFSETTO:-0400
RDATE:20260308T020000
RDATE:20270314T020000
END:DAYLIGHT
END:VTIMEZONE
BEGIN:VEVENT
UID:1355f586-6e3b-4ea1-b1af-452e4e894500
DTSTAMP:20260420T005146Z
DESCRIPTION:Join us to learn everything you want to know about pro se guard
 ianship (pursuing guardianship without an attorney) and its alternatives f
 rom the experts at SCARC. Come with questions\, leave with all the answers
 !
DTSTART;TZID=America/New_York:20260121T190000
DTEND;TZID=America/New_York:20260121T200000
LOCATION:https://us06web.zoom.us/webinar/register/WN_I5u1oqshRmy75fMEaEuXRQ
SUMMARY:'Pro Se Guardianship'
END:VEVENT
END:VCALENDAR
