BEGIN:VCALENDAR
VERSION:2.0
PRODID:-//www.arcnj.org//NONSGML kigkonsult.se iCalcreator 2.30.10//
CALSCALE:GREGORIAN
METHOD:PUBLISH
UID:18a6fdf2-d33d-426b-a91f-d11201befbdd
X-WR-CALDESC:**This is a recording of a previous webinar. Experience it for
  the first time or rewatch it to gain a better understanding of the topic.
  The question box will be open and we will respond to any questions 24 hou
 rs after the event.\n\nThis webinar is all about supported employment. It 
 will answer questions such as:\nWhat is competitive employment?\nWhy look 
 for work?\nWhat are the benefits of employment?\nWhat is supported employm
 ent and other related services? \nHow do they help?\nHow do I access these
  services/where do I start?\nIf you've ever had questions like the ones ab
 ove\, be sure to tune in to learn more!\n\nThis webinar is presented by Ad
 am Kubler. As the former director of the Arc of New Jersey's supported emp
 loyment program\, Project HIRE\, Adam Kubler brings over a decade of vocat
 ional rehabilitation experience to the agency. Mr. Kubler manages day-to-d
 ay operations while simultaneously planning for the future of the program 
 according to industry standards and trends. These factors contribute to th
 e continued success of Project HIRE\, which is the largest and oldest prov
 ider of supported employment services in New Jersey. Mr. Kubler is proud o
 f the agency he directs and is always eager to seek out new opportunities 
 to enhance services for participants served. He embraces technology as a w
 ay to improve outcomes for participants and maximize efficiency for Projec
 t HIRE staff members which leads to even more direct services provided to 
 New Jersey constituents. True to the mission of the Arc of New Jersey\, th
 e director of Project HIRE aims to be a source of information and guidance
  for anyone interested in learning more about the ever changing field of s
 upported employment\,
X-WR-RELCALID:d270b3a556b728938243dc729126b5b7
X-WR-TIMEZONE:America/New_York
BEGIN:VTIMEZONE
TZID:America/New_York
BEGIN:STANDARD
TZNAME:EST
DTSTART:20251102T020000
TZOFFSETFROM:-0400
TZOFFSETTO:-0500
RDATE:20261101T020000
END:STANDARD
BEGIN:DAYLIGHT
TZNAME:EDT
DTSTART:20250309T020000
TZOFFSETFROM:-0500
TZOFFSETTO:-0400
RDATE:20260308T020000
RDATE:20270314T020000
END:DAYLIGHT
END:VTIMEZONE
BEGIN:VEVENT
UID:06cb73c6-2f0e-4d40-b25a-4a5d490680a1
DTSTAMP:20260420T005737Z
DESCRIPTION:**This is a recording of a previous webinar. Experience it for 
 the first time or rewatch it to gain a better understanding of the topic. 
 The question box will be open and we will respond to any questions 24 hour
 s after the event.\n\nThis webinar is all about supported employment. It w
 ill answer questions such as:\nWhat is competitive employment?\nWhy look f
 or work?\nWhat are the benefits of employment?\nWhat is supported employme
 nt and other related services? \nHow do they help?\nHow do I access these 
 services/where do I start?\nIf you've ever had questions like the ones abo
 ve\, be sure to tune in to learn more!\n\nThis webinar is presented by Ada
 m Kubler. As the former director of the Arc of New Jersey's supported empl
 oyment program\, Project HIRE\, Adam Kubler brings over a decade of vocati
 onal rehabilitation experience to the agency. Mr. Kubler manages day-to-da
 y operations while simultaneously planning for the future of the program a
 ccording to industry standards and trends. These factors contribute to the
  continued success of Project HIRE\, which is the largest and oldest provi
 der of supported employment services in New Jersey. Mr. Kubler is proud of
  the agency he directs and is always eager to seek out new opportunities t
 o enhance services for participants served. He embraces technology as a wa
 y to improve outcomes for participants and maximize efficiency for Project
  HIRE staff members which leads to even more direct services provided to N
 ew Jersey constituents. True to the mission of the Arc of New Jersey\, the
  director of Project HIRE aims to be a source of information and guidance 
 for anyone interested in learning more about the ever changing field of su
 pported employment\,
DTSTART;TZID=America/New_York:20260120T140000
DTEND;TZID=America/New_York:20260120T150000
LOCATION:https://us06web.zoom.us/webinar/register/WN_etZR066FRuOsol8g5f32HQ
 #/registration
SUMMARY:REPLAY: Overview of Supported Employment
END:VEVENT
END:VCALENDAR
